BEGIN:VCALENDAR
VERSION:2.0
PRODID:-//CENTRE EXCURSIONISTA LES BORGES-GARRIGUES - ECPv6.15.20//NONSGML v1.0//EN
CALSCALE:GREGORIAN
METHOD:PUBLISH
X-ORIGINAL-URL:https://cebg.cat
X-WR-CALDESC:Esdeveniments per CENTRE EXCURSIONISTA LES BORGES-GARRIGUES
REFRESH-INTERVAL;VALUE=DURATION:PT1H
X-Robots-Tag:noindex
X-PUBLISHED-TTL:PT1H
BEGIN:VTIMEZONE
TZID:Europe/Madrid
BEGIN:DAYLIGHT
TZOFFSETFROM:+0100
TZOFFSETTO:+0200
TZNAME:CEST
DTSTART:20240331T010000
END:DAYLIGHT
BEGIN:STANDARD
TZOFFSETFROM:+0200
TZOFFSETTO:+0100
TZNAME:CET
DTSTART:20241027T010000
END:STANDARD
BEGIN:DAYLIGHT
TZOFFSETFROM:+0100
TZOFFSETTO:+0200
TZNAME:CEST
DTSTART:20250330T010000
END:DAYLIGHT
BEGIN:STANDARD
TZOFFSETFROM:+0200
TZOFFSETTO:+0100
TZNAME:CET
DTSTART:20251026T010000
END:STANDARD
BEGIN:DAYLIGHT
TZOFFSETFROM:+0100
TZOFFSETTO:+0200
TZNAME:CEST
DTSTART:20260329T010000
END:DAYLIGHT
BEGIN:STANDARD
TZOFFSETFROM:+0200
TZOFFSETTO:+0100
TZNAME:CET
DTSTART:20261025T010000
END:STANDARD
END:VTIMEZONE
BEGIN:VEVENT
DTSTART;TZID=Europe/Madrid:20250309T080000
DTEND;TZID=Europe/Madrid:20250309T170000
DTSTAMP:20260422T051110
CREATED:20250301T204102Z
LAST-MODIFIED:20250311T181858Z
UID:20325-1741507200-1741539600@cebg.cat
SUMMARY:Sortida a Ulldemolins
DESCRIPTION:Sortida diumenge 09 de març\, a Ulldemolins \nSortirem a les 06:30 de la plaça Europa. \nPer venir s’ha de ser soci del Centre i està federat\, sinó s’haurà de contractar l’assegurança de dia 5€ \nLa sortida durarà tot el dia \nNivell físic 3 de 5 (es una ruta llarga i amb desnivells constants) \nNivell tècnic 2 de 5 \nPortar aigua (s’aconsella mínim 1\,5 l) es trobarà algún lloc per poder omplir\, però sense garanties sanitàries\, menja per tot el dia (esmorzar\, dinar i algo més per picar). \n 
URL:https://cebg.cat/event/sortida-a-ulldemolins/
LOCATION:Plaça Europa\, Plaça Europa\, Les Borges Blanques\, Lleida\, 25400
ATTACH;FMTTYPE=image/jpeg:https://cebg.cat/wp-content/uploads/2025/03/T29_RLM4854BX.jpg
END:VEVENT
END:VCALENDAR