BEGIN:VCALENDAR
VERSION:2.0
PRODID:-//CENTRE EXCURSIONISTA LES BORGES-GARRIGUES - ECPv6.15.20//NONSGML v1.0//EN
CALSCALE:GREGORIAN
METHOD:PUBLISH
X-WR-CALNAME:CENTRE EXCURSIONISTA LES BORGES-GARRIGUES
X-ORIGINAL-URL:https://cebg.cat
X-WR-CALDESC:Esdeveniments per CENTRE EXCURSIONISTA LES BORGES-GARRIGUES
REFRESH-INTERVAL;VALUE=DURATION:PT1H
X-Robots-Tag:noindex
X-PUBLISHED-TTL:PT1H
BEGIN:VTIMEZONE
TZID:Europe/Madrid
BEGIN:DAYLIGHT
TZOFFSETFROM:+0100
TZOFFSETTO:+0200
TZNAME:CEST
DTSTART:20240331T010000
END:DAYLIGHT
BEGIN:STANDARD
TZOFFSETFROM:+0200
TZOFFSETTO:+0100
TZNAME:CET
DTSTART:20241027T010000
END:STANDARD
BEGIN:DAYLIGHT
TZOFFSETFROM:+0100
TZOFFSETTO:+0200
TZNAME:CEST
DTSTART:20250330T010000
END:DAYLIGHT
BEGIN:STANDARD
TZOFFSETFROM:+0200
TZOFFSETTO:+0100
TZNAME:CET
DTSTART:20251026T010000
END:STANDARD
BEGIN:DAYLIGHT
TZOFFSETFROM:+0100
TZOFFSETTO:+0200
TZNAME:CEST
DTSTART:20260329T010000
END:DAYLIGHT
BEGIN:STANDARD
TZOFFSETFROM:+0200
TZOFFSETTO:+0100
TZNAME:CET
DTSTART:20261025T010000
END:STANDARD
END:VTIMEZONE
BEGIN:VEVENT
DTSTART;VALUE=DATE:20250426
DTEND;VALUE=DATE:20250428
DTSTAMP:20260422T034853
CREATED:20250319T203937Z
LAST-MODIFIED:20250325T194245Z
UID:20478-1745625600-1745798399@cebg.cat
SUMMARY:Sortida de Cap de Setmana als Ports de Beseit
DESCRIPTION:Sortida de cap de setmana als Ports de Beseit\nNota informativa sortida de cap de setmana 26/27 abril.\nEstava previst de fer una sortida a Certascan\, aquesta no es podrà realitzar (el refugi està tancat).\nLa nova sortida serà les mateixes dates i el lloc serà “Els Ports de Beseit” \nTenim places limitades\,  a 15 de Març de 36 disponibles en queden 24.\nEl preu per mitjà pensió es de 50 € X persona\, la llista la tancarem el dia 30 de Març i el mateix dia que es tancarà la llista tots els que estigui apuntat tindrà que fer el bizum corresponent abans de les 24:00 del mateix dia (si no s’ha realitzat\, no podrem fer la reserva)\nPassem els trams dels dos dies per tal que pugueu veure el recorregut \nNivell físic 3/5\nNivell tècnic 3/5\nMoltes gràcies. \nPer poder realitzar la sortida\, es te que ser soci del Centre i està federat\, si no\, es podrà fer llicència de 2 dies (10€) es de 5€ per dia. \nLa sortida als ports de Beseit 26/27.\nDonem per tancada la llista d’inscrits\, després de haver fet les reserves. El refugi ja està complet. \nMoltes gràcies!!!
URL:https://cebg.cat/event/sortida-de-cap-de-setmana-als-ports-de-beseit/
LOCATION:Plaça Europa\, Plaça Europa\, Les Borges Blanques\, Lleida\, 25400
CATEGORIES:Excursions i Sortides
ATTACH;FMTTYPE=image/jpeg:https://cebg.cat/wp-content/uploads/2025/03/parc-natural-de-els-ports-de-beseit.jpg
END:VEVENT
END:VCALENDAR