BEGIN:VCALENDAR
VERSION:2.0
PRODID:-//CENTRE EXCURSIONISTA LES BORGES-GARRIGUES - ECPv6.15.20//NONSGML v1.0//EN
CALSCALE:GREGORIAN
METHOD:PUBLISH
X-WR-CALNAME:CENTRE EXCURSIONISTA LES BORGES-GARRIGUES
X-ORIGINAL-URL:https://cebg.cat
X-WR-CALDESC:Esdeveniments per CENTRE EXCURSIONISTA LES BORGES-GARRIGUES
REFRESH-INTERVAL;VALUE=DURATION:PT1H
X-Robots-Tag:noindex
X-PUBLISHED-TTL:PT1H
BEGIN:VTIMEZONE
TZID:Europe/Madrid
BEGIN:DAYLIGHT
TZOFFSETFROM:+0100
TZOFFSETTO:+0200
TZNAME:CEST
DTSTART:20240331T010000
END:DAYLIGHT
BEGIN:STANDARD
TZOFFSETFROM:+0200
TZOFFSETTO:+0100
TZNAME:CET
DTSTART:20241027T010000
END:STANDARD
BEGIN:DAYLIGHT
TZOFFSETFROM:+0100
TZOFFSETTO:+0200
TZNAME:CEST
DTSTART:20250330T010000
END:DAYLIGHT
BEGIN:STANDARD
TZOFFSETFROM:+0200
TZOFFSETTO:+0100
TZNAME:CET
DTSTART:20251026T010000
END:STANDARD
BEGIN:DAYLIGHT
TZOFFSETFROM:+0100
TZOFFSETTO:+0200
TZNAME:CEST
DTSTART:20260329T010000
END:DAYLIGHT
BEGIN:STANDARD
TZOFFSETFROM:+0200
TZOFFSETTO:+0100
TZNAME:CET
DTSTART:20261025T010000
END:STANDARD
END:VTIMEZONE
BEGIN:VEVENT
DTSTART;VALUE=DATE:20250927
DTEND;VALUE=DATE:20250928
DTSTAMP:20260421T204623
CREATED:20250829T185722Z
LAST-MODIFIED:20250924T171858Z
UID:21375-1758931200-1759017599@cebg.cat
SUMMARY:23a Etapa del Cami de Ronda de Vilanova de la Geltru a l'Arboç
DESCRIPTION:Dissabte 27 de setembre sortida oficial del CEBG\, etapa 23 de Camí de Ronda: Vilanova i la Geltrú a l’Arboç.\nDescripció del recorregut: \nPer realitzar aquesta etapa sortirem prop de l’estació de trens de Vilanova i la Geltrú fins a arribar a l’Arboç. \nÉs un recorregut que s’endinsa cap a l’interior\, a la recerca del Castellet\, tot travessant turons nobles i algun fons obac i frondós. A Castellet\, el seu exuberant castell i l’embassament del Foix són dos referents inevitables i ineludibles d’aquesta sortida. Però també hi haurà altres punts d’interès com són la Torre de la Immortalitat\, el Mas de l’Artís\, Cal Cassanyes\, cal Balaguer i la Giralda de l’Arboç. \nInformació sortida: \n-Quedarem a les 6:30 a la plaça Europa (Es demana puntualitat). \n-Esmorzarem i dinarem pel recorregut. \n-La sortida ens implicarà pràcticament tot el dia. \nDades del recorregut: \nRuta no circular de 20 km aprox. Quan arribarem a l’Arboç anirem a l’estació de trens i allí agafarem un tren que ens portarà a Sant Vicenç de Calders i d’aquí farem transbord a un altre tren que ens durà a Vilanova i la Geltrú. El trajecte més o menys dura 1 hora. \n-Desnivell de 460 m + i 300 m – \n-Dificultat tècnica fàcil\, però s’ha de tenir en compte l’acumulació dels km. \n-Duració de la sortida unes 5 h aprox. \n(LES DADES I VALORACIONS DEL RECORREGUT SÓN ORIENTATIVES I DEPENEN DE L’ESTAT FÍSIC I EXPERIÈNCIA DE CADA PERSONA.) \nRequisits per inscriure’s a la sortida: \n-Estar federat. \n-Ser soci del CEBG. \n-Últim dia inscripció dijous 25 de setembre. \nAltres dades: \n-Portar menjar calòric\, esmorzar\, dinar i molta aigua\, ja que no hi ha cap punt d’aigua fins al Castellet. \n-El tren de tornada val 3 euros. Recordeu portar diners per poder pagar el tren.
URL:https://cebg.cat/event/cami-de-ronda/
LOCATION:Plaça Europa\, Plaça Europa\, Les Borges Blanques\, Lleida\, 25400
CATEGORIES:Excursions i Sortides
ATTACH;FMTTYPE=image/jpeg:https://cebg.cat/wp-content/uploads/2025/09/97737362.700x525.jpg
END:VEVENT
END:VCALENDAR