BEGIN:VCALENDAR
VERSION:2.0
PRODID:-//CENTRE EXCURSIONISTA LES BORGES-GARRIGUES - ECPv6.15.20//NONSGML v1.0//EN
CALSCALE:GREGORIAN
METHOD:PUBLISH
X-ORIGINAL-URL:https://cebg.cat
X-WR-CALDESC:Esdeveniments per CENTRE EXCURSIONISTA LES BORGES-GARRIGUES
REFRESH-INTERVAL;VALUE=DURATION:PT1H
X-Robots-Tag:noindex
X-PUBLISHED-TTL:PT1H
BEGIN:VTIMEZONE
TZID:Europe/Madrid
BEGIN:DAYLIGHT
TZOFFSETFROM:+0100
TZOFFSETTO:+0200
TZNAME:CEST
DTSTART:20240331T010000
END:DAYLIGHT
BEGIN:STANDARD
TZOFFSETFROM:+0200
TZOFFSETTO:+0100
TZNAME:CET
DTSTART:20241027T010000
END:STANDARD
BEGIN:DAYLIGHT
TZOFFSETFROM:+0100
TZOFFSETTO:+0200
TZNAME:CEST
DTSTART:20250330T010000
END:DAYLIGHT
BEGIN:STANDARD
TZOFFSETFROM:+0200
TZOFFSETTO:+0100
TZNAME:CET
DTSTART:20251026T010000
END:STANDARD
BEGIN:DAYLIGHT
TZOFFSETFROM:+0100
TZOFFSETTO:+0200
TZNAME:CEST
DTSTART:20260329T010000
END:DAYLIGHT
BEGIN:STANDARD
TZOFFSETFROM:+0200
TZOFFSETTO:+0100
TZNAME:CET
DTSTART:20261025T010000
END:STANDARD
END:VTIMEZONE
BEGIN:VEVENT
DTSTART;VALUE=DATE:20251115
DTEND;VALUE=DATE:20251116
DTSTAMP:20260421T175148
CREATED:20251028T124640Z
LAST-MODIFIED:20251111T184740Z
UID:21566-1763164800-1763251199@cebg.cat
SUMMARY:Sortida a Camprodon al Pla de les Pasteres i Pedra dels Bisbats
DESCRIPTION:Dissabte 15 de novembre sortida oficial del CEBG \nSortida al Puig Pla de les Pasteres i Pedra dels Tres Bisbats \nDescripció del recorregut: \nPer realitzar aquesta ruta sortirem des del pàrquing Mas Ventós. \nRuta circular que des del municipi de Camprodon ens portarà al puig Pla de les Pasteres i a la Pedra dels Tres Bisbats resseguint la carena de serra Cavallera. \nL’itinerari ressegueix el fil carener durant força estona permetent-nos gaudir d’àmplies vistes cap al Pirineu i les extenses serralades prepirinenques de l’Alta Garrotxa\, el Ripollès i el Berguedà. El camí està senyalitzat com a PR C-190 i PR C-189. \nInformació sortida: \n-Quedarem a les 5:30 a la plaça Europa (es demana puntualitat). \n-Esmorzarem i dinarem pel recorregut. \n-La sortida ens implicarà pràcticament tot el dia. \nDades del recorregut: \n-Ruta circular de 18-19 km aprox. \n– Desnivell de 993 m + i 993 m -. \n-Dificultat tècnica moderada. \n-Duració de la sortida unes 6-7 h aprox. \n(LES DADES I VALORACIONS DEL RECORREGUT SÓN ORIENTATIVES DEPENEN DE L’ESTAT FÍSIC I EXPERIÈNCIA DE CADA PERSONA.) \nRequisits per inscriure’s a la sortida: \n-Estar federat \n-Ser soci del CEBG. \n-Últim dia inscripció dijous 13 de novembre \nAltres dades: \n-Portar menjar calòric\, esmorzar\, dinar i aigua. \nRecomanables bastons de trekking\, paravent ja que és una zona on bufa molt el vent\, roba per aquesta època de l’any\, buff i guants. No sabem si trobarem el terreny mullat o enfangat per això també és important porta roba i sabates de recanvi.
URL:https://cebg.cat/event/sortida-a-camprodon-al-pla-de-les-pasteres-i-pedra-dels-bisbats/
LOCATION:Plaça Europa\, Plaça Europa\, Les Borges Blanques\, Lleida\, 25400
ATTACH;FMTTYPE=image/jpeg:https://cebg.cat/wp-content/uploads/2025/10/99296140Master.jpg
END:VEVENT
END:VCALENDAR