BEGIN:VCALENDAR
VERSION:2.0
PRODID:-//CENTRE EXCURSIONISTA LES BORGES-GARRIGUES - ECPv6.15.20//NONSGML v1.0//EN
CALSCALE:GREGORIAN
METHOD:PUBLISH
X-WR-CALNAME:CENTRE EXCURSIONISTA LES BORGES-GARRIGUES
X-ORIGINAL-URL:https://cebg.cat
X-WR-CALDESC:Esdeveniments per CENTRE EXCURSIONISTA LES BORGES-GARRIGUES
REFRESH-INTERVAL;VALUE=DURATION:PT1H
X-Robots-Tag:noindex
X-PUBLISHED-TTL:PT1H
BEGIN:VTIMEZONE
TZID:Europe/Madrid
BEGIN:DAYLIGHT
TZOFFSETFROM:+0100
TZOFFSETTO:+0200
TZNAME:CEST
DTSTART:20240331T010000
END:DAYLIGHT
BEGIN:STANDARD
TZOFFSETFROM:+0200
TZOFFSETTO:+0100
TZNAME:CET
DTSTART:20241027T010000
END:STANDARD
BEGIN:DAYLIGHT
TZOFFSETFROM:+0100
TZOFFSETTO:+0200
TZNAME:CEST
DTSTART:20250330T010000
END:DAYLIGHT
BEGIN:STANDARD
TZOFFSETFROM:+0200
TZOFFSETTO:+0100
TZNAME:CET
DTSTART:20251026T010000
END:STANDARD
BEGIN:DAYLIGHT
TZOFFSETFROM:+0100
TZOFFSETTO:+0200
TZNAME:CEST
DTSTART:20260329T010000
END:DAYLIGHT
BEGIN:STANDARD
TZOFFSETFROM:+0200
TZOFFSETTO:+0100
TZNAME:CET
DTSTART:20261025T010000
END:STANDARD
END:VTIMEZONE
BEGIN:VEVENT
DTSTART;TZID=Europe/Madrid:20251221T103000
DTEND;TZID=Europe/Madrid:20251221T140000
DTSTAMP:20260421T161834
CREATED:20251114T190301Z
LAST-MODIFIED:20251221T073712Z
UID:21603-1766313000-1766325600@cebg.cat
SUMMARY:21a Pujada del Pessebre al Cim dels Bessons
DESCRIPTION:El diumenge 21 al matí\, farem la Pujada del Pessebre als Bessons. \nTrobada al CEBG a les 10.30 h\, per fer les figures amb plastilina.\nA les 11.30 pujada en cotxes al pla del Meno i d’allà als Bessons a peu. \nNivell: Molt Fàcil. \nDistància: 5 Km.
URL:https://cebg.cat/event/21a-pujada-del-pessebre-al-cim-dels-bessons/
LOCATION:Centre Excursionista Borges-Garrigues\, Carrer Catalunya\, núm s/n\, Les Borges Blanques\, Lleida\, 25400\, Spain
CATEGORIES:Excursions i Sortides,Manelets
ATTACH;FMTTYPE=image/jpeg:https://cebg.cat/wp-content/uploads/2024/12/IMG-20241222-WA0054.jpg
END:VEVENT
END:VCALENDAR