BEGIN:VCALENDAR
VERSION:2.0
PRODID:-//CENTRE EXCURSIONISTA LES BORGES-GARRIGUES - ECPv6.15.20//NONSGML v1.0//EN
CALSCALE:GREGORIAN
METHOD:PUBLISH
X-WR-CALNAME:CENTRE EXCURSIONISTA LES BORGES-GARRIGUES
X-ORIGINAL-URL:https://cebg.cat
X-WR-CALDESC:Esdeveniments per CENTRE EXCURSIONISTA LES BORGES-GARRIGUES
REFRESH-INTERVAL;VALUE=DURATION:PT1H
X-Robots-Tag:noindex
X-PUBLISHED-TTL:PT1H
BEGIN:VTIMEZONE
TZID:Europe/Madrid
BEGIN:DAYLIGHT
TZOFFSETFROM:+0100
TZOFFSETTO:+0200
TZNAME:CEST
DTSTART:20250330T010000
END:DAYLIGHT
BEGIN:STANDARD
TZOFFSETFROM:+0200
TZOFFSETTO:+0100
TZNAME:CET
DTSTART:20251026T010000
END:STANDARD
BEGIN:DAYLIGHT
TZOFFSETFROM:+0100
TZOFFSETTO:+0200
TZNAME:CEST
DTSTART:20260329T010000
END:DAYLIGHT
BEGIN:STANDARD
TZOFFSETFROM:+0200
TZOFFSETTO:+0100
TZNAME:CET
DTSTART:20261025T010000
END:STANDARD
BEGIN:DAYLIGHT
TZOFFSETFROM:+0100
TZOFFSETTO:+0200
TZNAME:CEST
DTSTART:20270328T010000
END:DAYLIGHT
BEGIN:STANDARD
TZOFFSETFROM:+0200
TZOFFSETTO:+0100
TZNAME:CET
DTSTART:20271031T010000
END:STANDARD
END:VTIMEZONE
BEGIN:VEVENT
DTSTART;TZID=Europe/Madrid:20260322T100000
DTEND;TZID=Europe/Madrid:20260322T130000
DTSTAMP:20260420T020153
CREATED:20260313T173632Z
LAST-MODIFIED:20260317T211309Z
UID:22179-1774173600-1774184400@cebg.cat
SUMMARY:Sortida dels Manelets-Cabanes de Volta de les Borges Blanques
DESCRIPTION:Pròxima sortida\, diumenge\, 22. \nMatí de 10.00 a 13.00 \nTrobada a les 10.00 a l’aparcament del Consell comarcal \nDescoberta de la Font d’en Clèria\, que enguany baixa ufanosa i ruta per les cabanes de volta entre els termes de les Borges i l’Albi.
URL:https://cebg.cat/event/sortida-dels-manelets-cabanes-de-volta-de-les-borges-blanques/
LOCATION:Consell Comarcal de les Garrigues\, Avinguda de Francesc Macià\, 54\, Les Borges Blanques\, Lleida\, 25400
CATEGORIES:Manelets
ATTACH;FMTTYPE=image/jpeg:https://cebg.cat/wp-content/uploads/2026/03/20251221_132154-Mediana.jpg
END:VEVENT
END:VCALENDAR