BEGIN:VCALENDAR
VERSION:2.0
PRODID:-//CENTRE EXCURSIONISTA LES BORGES-GARRIGUES - ECPv6.15.20//NONSGML v1.0//EN
CALSCALE:GREGORIAN
METHOD:PUBLISH
X-WR-CALNAME:CENTRE EXCURSIONISTA LES BORGES-GARRIGUES
X-ORIGINAL-URL:https://cebg.cat
X-WR-CALDESC:Esdeveniments per CENTRE EXCURSIONISTA LES BORGES-GARRIGUES
REFRESH-INTERVAL;VALUE=DURATION:PT1H
X-Robots-Tag:noindex
X-PUBLISHED-TTL:PT1H
BEGIN:VTIMEZONE
TZID:Europe/Madrid
BEGIN:DAYLIGHT
TZOFFSETFROM:+0100
TZOFFSETTO:+0200
TZNAME:CEST
DTSTART:20240331T010000
END:DAYLIGHT
BEGIN:STANDARD
TZOFFSETFROM:+0200
TZOFFSETTO:+0100
TZNAME:CET
DTSTART:20241027T010000
END:STANDARD
BEGIN:DAYLIGHT
TZOFFSETFROM:+0100
TZOFFSETTO:+0200
TZNAME:CEST
DTSTART:20250330T010000
END:DAYLIGHT
BEGIN:STANDARD
TZOFFSETFROM:+0200
TZOFFSETTO:+0100
TZNAME:CET
DTSTART:20251026T010000
END:STANDARD
BEGIN:DAYLIGHT
TZOFFSETFROM:+0100
TZOFFSETTO:+0200
TZNAME:CEST
DTSTART:20260329T010000
END:DAYLIGHT
BEGIN:STANDARD
TZOFFSETFROM:+0200
TZOFFSETTO:+0100
TZNAME:CET
DTSTART:20261025T010000
END:STANDARD
END:VTIMEZONE
BEGIN:VEVENT
DTSTART;TZID=Europe/Madrid:20250504T083000
DTEND;TZID=Europe/Madrid:20250504T150000
DTSTAMP:20260422T024310
CREATED:20250417T180610Z
LAST-MODIFIED:20250417T181455Z
UID:20709-1746347400-1746370800@cebg.cat
SUMMARY:1a Marxa Serra dels Bessons
DESCRIPTION:Clica en la imatge
URL:https://cebg.cat/event/1a-marxa-serra-dels-bessons/
LOCATION:Plaça Indepencència\, Pavello de l'Oli\,\, Les Borges Blanques\, Lleida\, 25400\, Espanya
CATEGORIES:Activitats del CEBG,Excursions i Sortides
ATTACH;FMTTYPE=image/jpeg:https://cebg.cat/wp-content/uploads/2025/04/IMG-20240316-WA0018.jpg
ORGANIZER;CN="Centre Excursionista Borges-Garrigues":MAILTO:cxborgesgarrigues@gmail.com
END:VEVENT
END:VCALENDAR