BEGIN:VCALENDAR
VERSION:2.0
PRODID:-//CENTRE EXCURSIONISTA LES BORGES-GARRIGUES - ECPv6.15.20//NONSGML v1.0//EN
CALSCALE:GREGORIAN
METHOD:PUBLISH
X-ORIGINAL-URL:https://cebg.cat
X-WR-CALDESC:Esdeveniments per CENTRE EXCURSIONISTA LES BORGES-GARRIGUES
REFRESH-INTERVAL;VALUE=DURATION:PT1H
X-Robots-Tag:noindex
X-PUBLISHED-TTL:PT1H
BEGIN:VTIMEZONE
TZID:Europe/Madrid
BEGIN:DAYLIGHT
TZOFFSETFROM:+0100
TZOFFSETTO:+0200
TZNAME:CEST
DTSTART:20240331T010000
END:DAYLIGHT
BEGIN:STANDARD
TZOFFSETFROM:+0200
TZOFFSETTO:+0100
TZNAME:CET
DTSTART:20241027T010000
END:STANDARD
BEGIN:DAYLIGHT
TZOFFSETFROM:+0100
TZOFFSETTO:+0200
TZNAME:CEST
DTSTART:20250330T010000
END:DAYLIGHT
BEGIN:STANDARD
TZOFFSETFROM:+0200
TZOFFSETTO:+0100
TZNAME:CET
DTSTART:20251026T010000
END:STANDARD
BEGIN:DAYLIGHT
TZOFFSETFROM:+0100
TZOFFSETTO:+0200
TZNAME:CEST
DTSTART:20260329T010000
END:DAYLIGHT
BEGIN:STANDARD
TZOFFSETFROM:+0200
TZOFFSETTO:+0100
TZNAME:CET
DTSTART:20261025T010000
END:STANDARD
END:VTIMEZONE
BEGIN:VEVENT
DTSTART;TZID=Europe/Madrid:20250405T070000
DTEND;TZID=Europe/Madrid:20250405T150000
DTSTAMP:20260422T040829
CREATED:20250309T191947Z
LAST-MODIFIED:20250330T205255Z
UID:20418-1743836400-1743865200@cebg.cat
SUMMARY:Sortida a Farena\, els Cogullons i Mola dels 4 Termes
DESCRIPTION:Sortida a Farena-els Cogullons-Mola dels 4 Termes-Farena \nSortida circular des de Farena\, on el recorregut transcorrerà cap a la Baltra\, el pou de gel espectacular dels Cogullons\, els cogullons\, masos del Xuclet\, Roquerol i Mateu\, la mola dels 4 termes\, la cova fumada\, fonts… \nSortida per conèixer el patrimoni social i cultural de les muntanyes de Prades. \nPortar aigua\, esmorzar i dinar\, sòlids i líquids. Muda de mitjons\, ja que un petit tram del recorregut\, en el barranc del Tous (si no plou aquesta setmana)\, s’ha de passar per aigua. \nSortida a les 7 del matí des de la plaça Europa (es demana puntualitat). \nDistància: 17 km \nDesnivell: 800 m. \nPer participar en la sortida\, s’ha de ser soci del centre i estar federat. En cas contrari\, es pagarà l’assegurança d’un dia que és de 5 €.
URL:https://cebg.cat/event/sortida-a-farena-els-cogullons-i-mola-dels-4-termes/
LOCATION:Plaça Europa\, Plaça Europa\, Les Borges Blanques\, Lleida\, 25400
CATEGORIES:Excursions i Sortides
ATTACH;FMTTYPE=image/jpeg:https://cebg.cat/wp-content/uploads/2025/03/20220327_124404-2.jpg
END:VEVENT
BEGIN:VEVENT
DTSTART;VALUE=DATE:20250412
DTEND;VALUE=DATE:20250413
DTSTAMP:20260422T040829
CREATED:20250319T202535Z
LAST-MODIFIED:20250408T201121Z
UID:20475-1744416000-1744502399@cebg.cat
SUMMARY:Sortida a la Serra de Busa
DESCRIPTION:  \nDissabte 12 d’abril sortida oficial a la Serra de Busa \n️ Descripció del recorregut: \nSe sortirà de l’aparcament de les Cases de Posada i s’endinsarà a la Serra de Busa. La Serra de Busa és una de les serres del Prepirineu situada al sud de la serra de Bastets\, a la comarca del Solsonès. Durant la sortida es gaudirà dels següents punts interès: ermita de Sant Iscle\, Font Casa Llobeta\, Creu del Capolat\, el Capolatell (presó de Busa)\, Serra del Cogul i Balma de l’Areny. \nInformació sortida: \n-Sortida: A les 6:00 a la plaça Europa (es demana puntualitat). \n-S’Esmorzarà i es dinarà pel recorregut. \n-La sortida\, implicarà pràcticament tot el dia. \n️ Dades del recorregut: \n-Ruta circular d’uns 13-14 km \n-Desnivell de 1016 m + i 1016 m -. \n-Dificultat moderada. \n(LES DADES I VALORACIONS DEL RECORREGUT SÓN ORIENTATIVES DEPENEN DE L’ESTAT FÍSIC I EXPERIÈNCIA DE CADA PERSONA). \nRequisits per inscriure’s a la sortida: \n-Estar federat. \n-Ser soci del CEBG. \n-Últim dia inscripció dijous 10  d’abril. \n-Si no s’està federat\, s’ha de pagar 5 euros per l’assegurança del dia. \n️ Altres dades: \n-Portar menjar calòric\, esmorzar\, dinar i aigua. \n-Es recomana portar botes de mitja canya. Hi ha zones on el terreny és pedregós i hi pot haver zones enfangades.
URL:https://cebg.cat/event/sortida-a-la-serra-de-busa/
LOCATION:Plaça Europa\, Plaça Europa\, Les Borges Blanques\, Lleida\, 25400
CATEGORIES:Excursions i Sortides
ATTACH;FMTTYPE=image/jpeg:https://cebg.cat/wp-content/uploads/2025/03/CingleresBusa_paisatge_retall.jpg
END:VEVENT
BEGIN:VEVENT
DTSTART;TZID=Europe/Madrid:20250412T160000
DTEND;TZID=Europe/Madrid:20250412T193000
DTSTAMP:20260422T040829
CREATED:20250319T201415Z
LAST-MODIFIED:20250408T193023Z
UID:20467-1744473600-1744486200@cebg.cat
SUMMARY:Sortida al Racó del Moro de les Borges
DESCRIPTION:EXCURSIÓ EXPLORATIVA AL RACÓ DEL MORO I DEL CESC (Terme BORGES) \nEls Manelets-Secció del CEBG \nAquest dissabte a la tarda\, ens ve donada una oportunitat excepcional per descobrir la zona probablement més espectacular del terme de les Borges\, a la vegada que la més humida\, que després del mes de març més plujós de les últimes dècades està en una esplendor i frondositat només recordada pels més vells. \nEs gaudirà dels obacs del Racó del Moro (es farà una explicació d’on ve el topònim) i del Cesc\, i de la seva vegetació mediterrània\, tambè d’espectaculars i poc conegudes vistes de les Borges\, el pla de Lleida\, I Pirineus\, una mica d’exploració perquè gaudeixin els més petits i ens deixarem sorprendre pels colors i flors de la primavera i la sorprenent bellesa dels paisatges\, des del mirador. \nEs descobrirà l’antic camí que connectava les Borges amb Cervià\, ara totalment en desús i només conegut per uns pocs. \nS’ha dit que hi ha una font oblidada\, que s’intentarà trobar ara que ha plogut tant\, i no hi faltaran com sempre els senders de bosc i totes les petites sorpreses. \nDia: dissabte 12 d’abril \nHora de sortida: concentració de cotxes al Consell Comarcal a les 15:30. Sortida puntual a les 15:45. \nDistància: 6\,9 km (ruta fàcil de muntanya baixa)\, calculem ser a casa a les 19 h\, 20 h màxim. \nDificultat: Baixa\, apte per a infants a partir de cinc anys (en algun punt poden requerir ajuda). Ruta semicircular. \nEs farà una parada per fer un mos quan i on ens vingui més de gust. \nINSCRIPCIONS: Joan M. Morlans\, 677 46 97 89 \nRecordeu que per fer les inscripcions heu d’enviar un missatge en privat.
URL:https://cebg.cat/event/sortida-al-raco-del-moro-de-les-borges/
LOCATION:Consell Comarcal de les Garrigues\, Avinguda de Francesc Macià\, 54\, Les Borges Blanques\, Lleida\, 25400
CATEGORIES:Excursions i Sortides,Manelets
ATTACH;FMTTYPE=image/jpeg:https://cebg.cat/wp-content/uploads/2025/03/20241109_114200.jpg
END:VEVENT
BEGIN:VEVENT
DTSTART;VALUE=DATE:20250426
DTEND;VALUE=DATE:20250428
DTSTAMP:20260422T040829
CREATED:20250319T203937Z
LAST-MODIFIED:20250325T194245Z
UID:20478-1745625600-1745798399@cebg.cat
SUMMARY:Sortida de Cap de Setmana als Ports de Beseit
DESCRIPTION:Sortida de cap de setmana als Ports de Beseit\nNota informativa sortida de cap de setmana 26/27 abril.\nEstava previst de fer una sortida a Certascan\, aquesta no es podrà realitzar (el refugi està tancat).\nLa nova sortida serà les mateixes dates i el lloc serà “Els Ports de Beseit” \nTenim places limitades\,  a 15 de Març de 36 disponibles en queden 24.\nEl preu per mitjà pensió es de 50 € X persona\, la llista la tancarem el dia 30 de Març i el mateix dia que es tancarà la llista tots els que estigui apuntat tindrà que fer el bizum corresponent abans de les 24:00 del mateix dia (si no s’ha realitzat\, no podrem fer la reserva)\nPassem els trams dels dos dies per tal que pugueu veure el recorregut \nNivell físic 3/5\nNivell tècnic 3/5\nMoltes gràcies. \nPer poder realitzar la sortida\, es te que ser soci del Centre i està federat\, si no\, es podrà fer llicència de 2 dies (10€) es de 5€ per dia. \nLa sortida als ports de Beseit 26/27.\nDonem per tancada la llista d’inscrits\, després de haver fet les reserves. El refugi ja està complet. \nMoltes gràcies!!!
URL:https://cebg.cat/event/sortida-de-cap-de-setmana-als-ports-de-beseit/
LOCATION:Plaça Europa\, Plaça Europa\, Les Borges Blanques\, Lleida\, 25400
CATEGORIES:Excursions i Sortides
ATTACH;FMTTYPE=image/jpeg:https://cebg.cat/wp-content/uploads/2025/03/parc-natural-de-els-ports-de-beseit.jpg
END:VEVENT
END:VCALENDAR