BEGIN:VCALENDAR
VERSION:2.0
PRODID:-//CENTRE EXCURSIONISTA LES BORGES-GARRIGUES - ECPv6.15.20//NONSGML v1.0//EN
CALSCALE:GREGORIAN
METHOD:PUBLISH
X-WR-CALNAME:CENTRE EXCURSIONISTA LES BORGES-GARRIGUES
X-ORIGINAL-URL:https://cebg.cat
X-WR-CALDESC:Esdeveniments per CENTRE EXCURSIONISTA LES BORGES-GARRIGUES
REFRESH-INTERVAL;VALUE=DURATION:PT1H
X-Robots-Tag:noindex
X-PUBLISHED-TTL:PT1H
BEGIN:VTIMEZONE
TZID:Europe/Madrid
BEGIN:DAYLIGHT
TZOFFSETFROM:+0100
TZOFFSETTO:+0200
TZNAME:CEST
DTSTART:20240331T010000
END:DAYLIGHT
BEGIN:STANDARD
TZOFFSETFROM:+0200
TZOFFSETTO:+0100
TZNAME:CET
DTSTART:20241027T010000
END:STANDARD
BEGIN:DAYLIGHT
TZOFFSETFROM:+0100
TZOFFSETTO:+0200
TZNAME:CEST
DTSTART:20250330T010000
END:DAYLIGHT
BEGIN:STANDARD
TZOFFSETFROM:+0200
TZOFFSETTO:+0100
TZNAME:CET
DTSTART:20251026T010000
END:STANDARD
BEGIN:DAYLIGHT
TZOFFSETFROM:+0100
TZOFFSETTO:+0200
TZNAME:CEST
DTSTART:20260329T010000
END:DAYLIGHT
BEGIN:STANDARD
TZOFFSETFROM:+0200
TZOFFSETTO:+0100
TZNAME:CET
DTSTART:20261025T010000
END:STANDARD
END:VTIMEZONE
BEGIN:VEVENT
DTSTART;VALUE=DATE:20250802
DTEND;VALUE=DATE:20250803
DTSTAMP:20260421T222203
CREATED:20250712T163022Z
LAST-MODIFIED:20250728T172034Z
UID:21172-1754092800-1754179199@cebg.cat
SUMMARY:Sortida al Pic de la Múnia
DESCRIPTION:Sortida oficial al massís de la Munia\, dissabte 2 d’agost. \nSortida a les 5:00 del matí de la plaça Europa. \nDISTÀNCIA: 14 km \nDESNIVELL: +1400 m \nDIFICULTAT FÍSICA: 4 de 5 \nDIFICULTAT TÈCNICA: 4 de 5 \n(Hi ha el pas del gat\, un pas equipat amb una cadena\, per ajudar a pujar i baixar). \nDURACIÓ: entre 8 i 10 h (tot el dia) \nMATERIAL: El de sempre per alta muntanya\, 2 l d’aigua i casc. \nSe sortirà des del pàrquing de Petramula\, passarem pels Ivons de la Munia\, fins al coll\, d’allí amunt grimpant sense dificultat fins al pas del gat. Un cop superat\, crestejarem fins a la Munia\, qui en tingui prou pot esperar allí\, continuarem crestejant i carenejant fins a la petita Munia i Sierra Morena\, 3 x 3000 damunt l’immens circ de Tromousse\, i desfarem pel mateix camí d’anada. \nPer participar en la sortida\, cal ser soci del centre i estar federat\, en cas contrari es pagarà els 5 € de l’assegurança. \nEs farà una parada a Aïnsa per fer cafè ràpid. \nPer qui agafi el cotxe s’ha de treure un tiquet de 3 € per accedir a la pista de Ruego\, Petramula\, a l’Ajuntament de Bielsa. \nPer comprar el tiquet: \nhttps://entradas.bielsa.com/reservarEntradas \nPer més informació en privat.
URL:https://cebg.cat/event/sortida-al-pic-de-la-munia/
LOCATION:Plaça Europa\, Plaça Europa\, Les Borges Blanques\, Lleida\, 25400
CATEGORIES:Excursions i Sortides
ATTACH;FMTTYPE=image/jpeg:https://cebg.cat/wp-content/uploads/2025/07/ibon-de-la-munia-y-perdido.jpg
END:VEVENT
BEGIN:VEVENT
DTSTART;TZID=Europe/Madrid:20250808T210000
DTEND;TZID=Europe/Madrid:20250808T233000
DTSTAMP:20260421T222203
CREATED:20250712T163957Z
LAST-MODIFIED:20250716T160201Z
UID:21176-1754686800-1754695800@cebg.cat
SUMMARY:Caminada dels Desitjos
DESCRIPTION:
URL:https://cebg.cat/event/caminada-dels-desitjos/
LOCATION:Placeta del Terrall\, Les Borges Blanques\, Espanya
CATEGORIES:Activitats del CEBG,Excursions i Sortides
ATTACH;FMTTYPE=image/jpeg:https://cebg.cat/wp-content/uploads/2024/08/IMG-20240810-WA0015.jpg
ORGANIZER;CN="Centre Excursionista Borges-Garrigues":MAILTO:cxborgesgarrigues@gmail.com
END:VEVENT
BEGIN:VEVENT
DTSTART;VALUE=DATE:20250815
DTEND;VALUE=DATE:20250816
DTSTAMP:20260421T222203
CREATED:20250716T161223Z
LAST-MODIFIED:20250812T105544Z
UID:21225-1755216000-1755302399@cebg.cat
SUMMARY:Sortida al Pic Certescan
DESCRIPTION:Sortida al Pic de Certascan\, divendres 15-08-2025 \nIniciarem la nostra ruta des del Refugi de Graus passant per un bosc caducifoli molt variat fins a les bordes de Noarre. Des d’aquí\, pujant a poc a poc\, passarem pel Forat de Guerossos i la Pleta de Guerossos.  \nPujarem per la dreta seguint el riu\, travessarem la Pleta Vella i ens trobarem amb l’Estany Blau. Girarem la vall a l’est separant-nos dels llacs per guanyar la cresta i el Pic de Certascan (2.845 m).  \nLa tornada és pel mateix camí de pujada passant per l’Estanyol de Guerossos fins al refugi de Graus. \n \nLa fitxa és aconsellable/obligatori de llegir-la. \nCal ser soci del centre excursionista i està federat\, en cas contrari es pagaran 5 € per fer l’assegurança d’un dia. \nSortirem de la plaça Europa a les 05:00 hores\, tenim quasi 3 hores de viatge\, \nsi trobem algun lloc obert pararem per fer cafè abans d’arribar. \nLa sortida és de tot el dia i en principi el temps serà bo\, però s’anirà informant. Si teniu dubtes ho dieu per privat. \nClica en la imatge
URL:https://cebg.cat/event/sortida-al-pic-certescan/
LOCATION:Plaça Europa\, Plaça Europa\, Les Borges Blanques\, Lleida\, 25400
CATEGORIES:Excursions i Sortides
ATTACH;FMTTYPE=image/jpeg:https://cebg.cat/wp-content/uploads/2025/07/refugi-Certascan_FEEC_1-1.jpg
END:VEVENT
BEGIN:VEVENT
DTSTART;VALUE=DATE:20250823
DTEND;VALUE=DATE:20250824
DTSTAMP:20260421T222204
CREATED:20250716T162238Z
LAST-MODIFIED:20250716T162238Z
UID:21230-1755907200-1755993599@cebg.cat
SUMMARY:Pujada als Cims Cambieil (3.173 m)\, Lentilla (3.157 m)\, Estaragne (3.0006 m) des de Cap de Long
DESCRIPTION:En aquests moments no tenim la informació de la sortida.
URL:https://cebg.cat/event/pujada-als-cims-cambieil-3-173-m-lentilla-3-157-m-estaragne-3-0006-m-des-de-cap-de-long/
LOCATION:Plaça Europa\, Plaça Europa\, Les Borges Blanques\, Lleida\, 25400
CATEGORIES:Excursions i Sortides
ATTACH;FMTTYPE=image/jpeg:https://cebg.cat/wp-content/uploads/2025/07/158-Campbieil.jpg
END:VEVENT
BEGIN:VEVENT
DTSTART;VALUE=DATE:20250830
DTEND;VALUE=DATE:20250831
DTSTAMP:20260421T222204
CREATED:20250816T103740Z
LAST-MODIFIED:20250827T160546Z
UID:21309-1756512000-1756598399@cebg.cat
SUMMARY:Pujada al Cim el Gran Encantat
DESCRIPTION:Sortida dissabte 30 d’agost\, al pic Gran Encantat. \nSortirem de la plaça Europa a les 5.30 hores. A mig camí pararem a esmorzar i continuarem fins al pàrquing del parc nacional d’Aigüestortes d’Espot\, anomenat Prat de Pierro. Aquí comencem la sortida que serà una ascensió que ens ocuparà entre pujar i baixar tot el dia. \nPortar el que habitualment es porta en una sortida d’alta muntanya\, menjar i líquid per passar tot el dia i es recomana portar casc\, pals\, botes i una peça de roba tipus paravent. En principi la meteorologia és favorable i les temperatures no seran altes. A la part alta hi ha una petita grimpada de 2° grau. \nÉs una ascensió de 1.115 m de desnivell positiu\, nivell tècnic 4 sobre 5 i nivell físic 4 sobre 5. Tenim tot el dia per poder assolir el nostre objectiu. Si teniu qualsevol dubte\, per privat. \nPer participar en la sortida s’ha de ser soci i estar federat. En cas contrari\, es pagarà 5 € d’assegurança d’un dia. \nSalut i cames.
URL:https://cebg.cat/event/pujada-al-cim-el-gran-encantat/
LOCATION:Plaça Europa\, Plaça Europa\, Les Borges Blanques\, Lleida\, 25400
CATEGORIES:Excursions i Sortides
ATTACH;FMTTYPE=image/jpeg:https://cebg.cat/wp-content/uploads/2025/08/Els_Encantats_i_lEstany_de_Sant_Maurici.jpg
END:VEVENT
END:VCALENDAR