BEGIN:VCALENDAR
VERSION:2.0
PRODID:-//CENTRE EXCURSIONISTA LES BORGES-GARRIGUES - ECPv6.15.20//NONSGML v1.0//EN
CALSCALE:GREGORIAN
METHOD:PUBLISH
X-ORIGINAL-URL:https://cebg.cat
X-WR-CALDESC:Esdeveniments per CENTRE EXCURSIONISTA LES BORGES-GARRIGUES
REFRESH-INTERVAL;VALUE=DURATION:PT1H
X-Robots-Tag:noindex
X-PUBLISHED-TTL:PT1H
BEGIN:VTIMEZONE
TZID:Europe/Madrid
BEGIN:DAYLIGHT
TZOFFSETFROM:+0100
TZOFFSETTO:+0200
TZNAME:CEST
DTSTART:20240331T010000
END:DAYLIGHT
BEGIN:STANDARD
TZOFFSETFROM:+0200
TZOFFSETTO:+0100
TZNAME:CET
DTSTART:20241027T010000
END:STANDARD
BEGIN:DAYLIGHT
TZOFFSETFROM:+0100
TZOFFSETTO:+0200
TZNAME:CEST
DTSTART:20250330T010000
END:DAYLIGHT
BEGIN:STANDARD
TZOFFSETFROM:+0200
TZOFFSETTO:+0100
TZNAME:CET
DTSTART:20251026T010000
END:STANDARD
BEGIN:DAYLIGHT
TZOFFSETFROM:+0100
TZOFFSETTO:+0200
TZNAME:CEST
DTSTART:20260329T010000
END:DAYLIGHT
BEGIN:STANDARD
TZOFFSETFROM:+0200
TZOFFSETTO:+0100
TZNAME:CET
DTSTART:20261025T010000
END:STANDARD
END:VTIMEZONE
BEGIN:VEVENT
DTSTART;VALUE=DATE:20250815
DTEND;VALUE=DATE:20250816
DTSTAMP:20260422T000138
CREATED:20250716T161223Z
LAST-MODIFIED:20250812T105544Z
UID:21225-1755216000-1755302399@cebg.cat
SUMMARY:Sortida al Pic Certescan
DESCRIPTION:Sortida al Pic de Certascan\, divendres 15-08-2025 \nIniciarem la nostra ruta des del Refugi de Graus passant per un bosc caducifoli molt variat fins a les bordes de Noarre. Des d’aquí\, pujant a poc a poc\, passarem pel Forat de Guerossos i la Pleta de Guerossos.  \nPujarem per la dreta seguint el riu\, travessarem la Pleta Vella i ens trobarem amb l’Estany Blau. Girarem la vall a l’est separant-nos dels llacs per guanyar la cresta i el Pic de Certascan (2.845 m).  \nLa tornada és pel mateix camí de pujada passant per l’Estanyol de Guerossos fins al refugi de Graus. \n \nLa fitxa és aconsellable/obligatori de llegir-la. \nCal ser soci del centre excursionista i està federat\, en cas contrari es pagaran 5 € per fer l’assegurança d’un dia. \nSortirem de la plaça Europa a les 05:00 hores\, tenim quasi 3 hores de viatge\, \nsi trobem algun lloc obert pararem per fer cafè abans d’arribar. \nLa sortida és de tot el dia i en principi el temps serà bo\, però s’anirà informant. Si teniu dubtes ho dieu per privat. \nClica en la imatge
URL:https://cebg.cat/event/sortida-al-pic-certescan/
LOCATION:Plaça Europa\, Plaça Europa\, Les Borges Blanques\, Lleida\, 25400
CATEGORIES:Excursions i Sortides
ATTACH;FMTTYPE=image/jpeg:https://cebg.cat/wp-content/uploads/2025/07/refugi-Certascan_FEEC_1-1.jpg
END:VEVENT
END:VCALENDAR