BEGIN:VCALENDAR
VERSION:2.0
PRODID:-//CENTRE EXCURSIONISTA LES BORGES-GARRIGUES - ECPv6.15.20//NONSGML v1.0//EN
CALSCALE:GREGORIAN
METHOD:PUBLISH
X-ORIGINAL-URL:https://cebg.cat
X-WR-CALDESC:Esdeveniments per CENTRE EXCURSIONISTA LES BORGES-GARRIGUES
REFRESH-INTERVAL;VALUE=DURATION:PT1H
X-Robots-Tag:noindex
X-PUBLISHED-TTL:PT1H
BEGIN:VTIMEZONE
TZID:Europe/Madrid
BEGIN:DAYLIGHT
TZOFFSETFROM:+0100
TZOFFSETTO:+0200
TZNAME:CEST
DTSTART:20240331T010000
END:DAYLIGHT
BEGIN:STANDARD
TZOFFSETFROM:+0200
TZOFFSETTO:+0100
TZNAME:CET
DTSTART:20241027T010000
END:STANDARD
BEGIN:DAYLIGHT
TZOFFSETFROM:+0100
TZOFFSETTO:+0200
TZNAME:CEST
DTSTART:20250330T010000
END:DAYLIGHT
BEGIN:STANDARD
TZOFFSETFROM:+0200
TZOFFSETTO:+0100
TZNAME:CET
DTSTART:20251026T010000
END:STANDARD
BEGIN:DAYLIGHT
TZOFFSETFROM:+0100
TZOFFSETTO:+0200
TZNAME:CEST
DTSTART:20260329T010000
END:DAYLIGHT
BEGIN:STANDARD
TZOFFSETFROM:+0200
TZOFFSETTO:+0100
TZNAME:CET
DTSTART:20261025T010000
END:STANDARD
END:VTIMEZONE
BEGIN:VEVENT
DTSTART;VALUE=DATE:20251122
DTEND;VALUE=DATE:20251123
DTSTAMP:20260421T192325
CREATED:20251028T125409Z
LAST-MODIFIED:20251118T192552Z
UID:21572-1763769600-1763855999@cebg.cat
SUMMARY:Sortida a Puigsacalm des de Joanetes
DESCRIPTION:Dissabte 22 de novembre sortida oficial del CEBG \nSortida al Puigsacalm des de Joanetes \nDescripció del recorregut: \nPer realitzar aquesta ruta sortirem des del poble de Joanetes\, pujarem a la serra pels ganxos nous\, pas equipat amb algun punt exposat\, però es fa bé\, esmorzarem a l’ermita i refugi de santa Magdalena\, pujarem cap al primer cim del dia\, el Puig dels Llops\, des d’aquí ja observarem el Puigsacalm\, el pròxim objectiu\, que amb els seus 1.515 m\, és el punt més alt de la serra transversal i un 100 cims FEEC\, des de dalt gaudirem de vistes a la Vall d’en Vas\, la comarca de l’Osona i els cims del Pirineu oriental. \nDe baixada passarem pel Puigsacalm petit\, i el pas dels burros\, i la seva fageda\, per tornar a descendir per un altre pas equipat\, els ganxos vells\, que tenen certa dificultat a ser baixant\, després desfarem el camí de tornada a Joanetes. \nInformació sortida: \n-Quedarem a les 6:00 h a la plaça Europa (es demana puntualitat). \n-Es pot parar a l’àrea de Gurb per fer un cafè. \nDades del recorregut: \n-Ruta circular de 12 km aprox. \n-Desnivell de +1000 m. \n-Dificultat tècnica alta (pel desnivell acumulat en pocs km\, i pels passos equipats). \n-Duració de la sortida unes 5-6 h aprox. \n(LES DADES I VALORACIONS DEL RECORREGUT SÓN ORIENTATIVES DEPENEN DE L’ESTAT FÍSIC I EXPERIÈNCIA DE CADA PERSONA). \nRequisits per inscriure’s a la sortida: \n-Estar federat. \n-Ser soci del CEBG. \n-Últim dia inscripció dijous 20 de novembre. \nAltres dades: \n-Portar menjar calòric\, esmorzar\, dinar i aigua. \nRecomanables bastons de trekking\, paravent\, roba per aquesta època de l’any\, buf i guants. No sabem si trobarem el terreny mullat o enfangat per això també és important porta roba i sabates de recanvi.
URL:https://cebg.cat/event/sortida-a-puigsacalm-des-de-joanetes/
LOCATION:Plaça Europa\, Plaça Europa\, Les Borges Blanques\, Lleida\, 25400
CATEGORIES:Excursions i Sortides
ATTACH;FMTTYPE=image/jpeg:https://cebg.cat/wp-content/uploads/2025/10/WEB-GESBISAURA_PATRIMONI-NATURAL_Puigsacalm_Xavier-Vilageliu.jpg
END:VEVENT
END:VCALENDAR