BEGIN:VCALENDAR
VERSION:2.0
PRODID:-//CENTRE EXCURSIONISTA LES BORGES-GARRIGUES - ECPv6.15.20//NONSGML v1.0//EN
CALSCALE:GREGORIAN
METHOD:PUBLISH
X-WR-CALNAME:CENTRE EXCURSIONISTA LES BORGES-GARRIGUES
X-ORIGINAL-URL:https://cebg.cat
X-WR-CALDESC:Esdeveniments per CENTRE EXCURSIONISTA LES BORGES-GARRIGUES
REFRESH-INTERVAL;VALUE=DURATION:PT1H
X-Robots-Tag:noindex
X-PUBLISHED-TTL:PT1H
BEGIN:VTIMEZONE
TZID:Europe/Madrid
BEGIN:DAYLIGHT
TZOFFSETFROM:+0100
TZOFFSETTO:+0200
TZNAME:CEST
DTSTART:20250330T010000
END:DAYLIGHT
BEGIN:STANDARD
TZOFFSETFROM:+0200
TZOFFSETTO:+0100
TZNAME:CET
DTSTART:20251026T010000
END:STANDARD
BEGIN:DAYLIGHT
TZOFFSETFROM:+0100
TZOFFSETTO:+0200
TZNAME:CEST
DTSTART:20260329T010000
END:DAYLIGHT
BEGIN:STANDARD
TZOFFSETFROM:+0200
TZOFFSETTO:+0100
TZNAME:CET
DTSTART:20261025T010000
END:STANDARD
BEGIN:DAYLIGHT
TZOFFSETFROM:+0100
TZOFFSETTO:+0200
TZNAME:CEST
DTSTART:20270328T010000
END:DAYLIGHT
BEGIN:STANDARD
TZOFFSETFROM:+0200
TZOFFSETTO:+0100
TZNAME:CET
DTSTART:20271031T010000
END:STANDARD
END:VTIMEZONE
BEGIN:VEVENT
DTSTART;TZID=Europe/Madrid:20260125T093000
DTEND;TZID=Europe/Madrid:20260125T130000
DTSTAMP:20260421T144546
CREATED:20251104T053607Z
LAST-MODIFIED:20260119T174528Z
UID:21594-1769333400-1769346000@cebg.cat
SUMMARY:Sortida dels Manelets-Descoberta de les fonts de Vinaixa
DESCRIPTION:Ep Manelets! El diumenge 25 toca excursió. Anirem a conèixer les fonts de Vinaixa\, que veurem rajar de valent! \nDia i hora: diumenge 25\, 9.30 matí a 13.00. \nSortida: Consell Comarcal. \nDESCOBERTA DE LES FONTS DE VINAIXA. \nCal confirmar per privat a aquest mateix telèfon (màxim dijous nit). \nRuta: 8 km. Nivell fàcil.
URL:https://cebg.cat/event/sortida-dels-manelets-fonts-daigua-entre-fulleda-tarres-i-vinaixa/
LOCATION:Consell Comarcal de les Garrigues\, Avinguda de Francesc Macià\, 54\, Les Borges Blanques\, Lleida\, 25400
CATEGORIES:Excursions i Sortides,Manelets
ATTACH;FMTTYPE=image/jpeg:https://cebg.cat/wp-content/uploads/2024/10/20241019_174720.jpg
END:VEVENT
END:VCALENDAR