BEGIN:VCALENDAR
VERSION:2.0
PRODID:-//CENTRE EXCURSIONISTA LES BORGES-GARRIGUES - ECPv6.15.20//NONSGML v1.0//EN
CALSCALE:GREGORIAN
METHOD:PUBLISH
X-ORIGINAL-URL:https://cebg.cat
X-WR-CALDESC:Esdeveniments per CENTRE EXCURSIONISTA LES BORGES-GARRIGUES
REFRESH-INTERVAL;VALUE=DURATION:PT1H
X-Robots-Tag:noindex
X-PUBLISHED-TTL:PT1H
BEGIN:VTIMEZONE
TZID:Europe/Madrid
BEGIN:DAYLIGHT
TZOFFSETFROM:+0100
TZOFFSETTO:+0200
TZNAME:CEST
DTSTART:20250330T010000
END:DAYLIGHT
BEGIN:STANDARD
TZOFFSETFROM:+0200
TZOFFSETTO:+0100
TZNAME:CET
DTSTART:20251026T010000
END:STANDARD
BEGIN:DAYLIGHT
TZOFFSETFROM:+0100
TZOFFSETTO:+0200
TZNAME:CEST
DTSTART:20260329T010000
END:DAYLIGHT
BEGIN:STANDARD
TZOFFSETFROM:+0200
TZOFFSETTO:+0100
TZNAME:CET
DTSTART:20261025T010000
END:STANDARD
BEGIN:DAYLIGHT
TZOFFSETFROM:+0100
TZOFFSETTO:+0200
TZNAME:CEST
DTSTART:20270328T010000
END:DAYLIGHT
BEGIN:STANDARD
TZOFFSETFROM:+0200
TZOFFSETTO:+0100
TZNAME:CET
DTSTART:20271031T010000
END:STANDARD
END:VTIMEZONE
BEGIN:VEVENT
DTSTART;VALUE=DATE:20260307
DTEND;VALUE=DATE:20260308
DTSTAMP:20260420T004205
CREATED:20260313T175021Z
LAST-MODIFIED:20260324T202823Z
UID:22183-1772841600-1772927999@cebg.cat
SUMMARY:Ruta de la Pau a la Serra de Pàndols
DESCRIPTION:En aquests moments no tenim la informació de la sortida.
URL:https://cebg.cat/event/ruta-de-la-pau-a-la-serra-de-pandols/
LOCATION:Plaça Europa\, Plaça Europa\, Les Borges Blanques\, Lleida\, 25400
CATEGORIES:Manelets
ATTACH;FMTTYPE=image/jpeg:https://cebg.cat/wp-content/uploads/2026/03/1350875.700x525.jpg
END:VEVENT
BEGIN:VEVENT
DTSTART;VALUE=DATE:20260321
DTEND;VALUE=DATE:20260322
DTSTAMP:20260420T004205
CREATED:20260313T170705Z
LAST-MODIFIED:20260317T210517Z
UID:22176-1774051200-1774137599@cebg.cat
SUMMARY:Sortida per la Serra de Cardó
DESCRIPTION:Aquest dissabte 21\, excursió a la serra de Cardó. \nRuta molt completa en què veure’m el Santuari/balneari de Cardó\, el conjunt d’ermites\, unes deu\, que envoltaven l’antic santuari. El bosc de Cosp\, un bosc de teixos\, considerat el més antic de tot Catalunya. La roca Foradada de Cardó. I el cim de la serra\, la Creu de Santos (cim comarcal de la Ribera d’Ebre) amb vistes espectaculars sobre la vall de l’Ebre. \nRecorregut: 16 km i 1100 m desnivell positiu. \nNivell físic: 3 sobre 5 \nNivell tècnic: 2 sobre 5 \nRuta de tot el dia\, portar líquids\, sòlids\, dinar. Farmaciola. Pals aconsellables. \nLa sortida\, tot i que acumula desnivell considerable\, es va acumulant progressivament \nI es fa bastant més suau. \nHora de sortida: 6h30. Plaça Europa. \nPararem a fer un cafè a Mora la Nova. \nHora aproximada arribada a les Borges 18 h. \nPer participar de l’excursió cal estar federat. En cas contrari cal pagar l’assegurança per l’activitat d’un dia que són 10 € si ets soci i de 15 € si no ho és.
URL:https://cebg.cat/event/sortida-per-la-serra-de-cardo/
LOCATION:Plaça Europa\, Plaça Europa\, Les Borges Blanques\, Lleida\, 25400
CATEGORIES:Excursions i Sortides
ATTACH;FMTTYPE=image/jpeg:https://cebg.cat/wp-content/uploads/2026/03/banner.jpg
END:VEVENT
BEGIN:VEVENT
DTSTART;TZID=Europe/Madrid:20260322T100000
DTEND;TZID=Europe/Madrid:20260322T130000
DTSTAMP:20260420T004205
CREATED:20260313T173632Z
LAST-MODIFIED:20260317T211309Z
UID:22179-1774173600-1774184400@cebg.cat
SUMMARY:Sortida dels Manelets-Cabanes de Volta de les Borges Blanques
DESCRIPTION:Pròxima sortida\, diumenge\, 22. \nMatí de 10.00 a 13.00 \nTrobada a les 10.00 a l’aparcament del Consell comarcal \nDescoberta de la Font d’en Clèria\, que enguany baixa ufanosa i ruta per les cabanes de volta entre els termes de les Borges i l’Albi.
URL:https://cebg.cat/event/sortida-dels-manelets-cabanes-de-volta-de-les-borges-blanques/
LOCATION:Consell Comarcal de les Garrigues\, Avinguda de Francesc Macià\, 54\, Les Borges Blanques\, Lleida\, 25400
CATEGORIES:Manelets
ATTACH;FMTTYPE=image/jpeg:https://cebg.cat/wp-content/uploads/2026/03/20251221_132154-Mediana.jpg
END:VEVENT
BEGIN:VEVENT
DTSTART;TZID=Europe/Madrid:20260328T073000
DTEND;TZID=Europe/Madrid:20260328T150000
DTSTAMP:20260420T004205
CREATED:20260208T164554Z
LAST-MODIFIED:20260324T202611Z
UID:22117-1774683000-1774710000@cebg.cat
SUMMARY:Sortida a Rojals als Cingles del Mas d'en Carles
DESCRIPTION:Sortida a Rojals i els Cingles del Mas d’en Carles\, dissabte 28-03-2026. \nRuta circular pel barranc del Pouet i els cingles d’en Mas d’en Carles\, on es podrà veure i visitar\, el Mas de Noguers\, Mas d’Anda\, Mas d’en Britus\, el Mas d’en Carles (amb la seva font i les pintures rupestres)\, font de les Fontanelles acabant a Rojals. Gaudirem de bones vistes del Pinetell i la Baltra\, on imponent es veu l’església de Mont-ral. \nHora de sortida: 7.30 h Plaça Europa. Sigueu puntuals. \nDistància: 13 km. \nDesnivell: 500 aprox. \nPortar aigua\, esmorzar\, líquids i sòlids. Calçat de muntanya i ganes de passar un bon matí. \nDinar a casa. \nPer participar en la sortida s’ha de ser soci i tenir la llicència federativa. En cas contrari s’ha de fer l’assegurança d’un dia.
URL:https://cebg.cat/event/sortida-a-rojals-als-cingles-del-mas-den-carles/
LOCATION:Plaça Europa\, Plaça Europa\, Les Borges Blanques\, Lleida\, 25400
CATEGORIES:Excursions i Sortides
ATTACH;FMTTYPE=image/jpeg:https://cebg.cat/wp-content/uploads/2026/02/20250802_113142.jpg
END:VEVENT
BEGIN:VEVENT
DTSTART;VALUE=DATE:20260404
DTEND;VALUE=DATE:20260405
DTSTAMP:20260420T004205
CREATED:20260314T083147Z
LAST-MODIFIED:20260314T083147Z
UID:22192-1775260800-1775347199@cebg.cat
SUMMARY:Sortida a Collsacabra
DESCRIPTION:En aquests moments no tenim la informació de la sortida.
URL:https://cebg.cat/event/sortida-a-collsacabra/
LOCATION:Plaça Europa\, Plaça Europa\, Les Borges Blanques\, Lleida\, 25400
CATEGORIES:Excursions i Sortides
ATTACH;FMTTYPE=image/webp:https://cebg.cat/wp-content/uploads/2026/03/collsacabra.webp
END:VEVENT
BEGIN:VEVENT
DTSTART;VALUE=DATE:20260411
DTEND;VALUE=DATE:20260412
DTSTAMP:20260420T004205
CREATED:20260314T083651Z
LAST-MODIFIED:20260407T075012Z
UID:22195-1775865600-1775951999@cebg.cat
SUMMARY:Sortida a Tivissa
DESCRIPTION:Dissabte 11 d’abril sortida oficial del CEBG \nSortida a la Tossa (Tivissa)-Mola de Genessies (2×100 Cims FEEC)-Coll de la Llena-Portella de Jovara-Tivissa \n️Descripció del recorregut: \nPer realitzar aquesta ruta sortirem des de Tivissa. \nRuta circular que des de Tivissa ens portarà primer passant pel camí de la Llena fins al coll de la Llena a la Tossa amb 718 m i després a la Mola de Genessies amb 711 m. \n️Informació sortida: \n-Quedarem a les 6:00 a la plaça Europa (es demana puntualitat). \n-Esmorzarem i dinarem pel recorregut. \n-La sortida ens implicarà pràcticament tot el dia. \n️Dades del recorregut: \n-Ruta circular de 20-21 km aprox. \n-Desnivell de 969 m + i 969 m -. \n-Dificultat moderada: és una ruta exigent i llarga pels kilòmetres a realitzar i per alguns trams de la ruta més tècnics. \n-Nivell físic: 4 \n-Duració de la sortida unes 6-7 h aprox. \n(LES DADES I VALORACIONS DEL RECORREGUT SÓN ORIENTATIVES DEPENEN DE L’ESTAT FÍSIC I EXPERIÈNCIA DE CADA PERSONA.) \n️ Requisits per inscriure’s a la sortida: \n-Estar federat \n-Ser soci del CEBG. \n-Últim dia inscripció dijous 9  d\, abril. \n️ Altres dades: \n-Portar menjar calòric\, esmorzar\, dinar. \nMolt important porta almenys 2 l aigua\, ja que és una ruta llarga i no hi ha cap punt d’aigua durant la ruta. \nRecomanable bastó de trekking\, botes i paravent\, perquè és una zona on bufa molt el vent.
URL:https://cebg.cat/event/sortida-a-tivissa/
LOCATION:Plaça Europa\, Plaça Europa\, Les Borges Blanques\, Lleida\, 25400
CATEGORIES:Excursions i Sortides
ATTACH;FMTTYPE=image/jpeg:https://cebg.cat/wp-content/uploads/2026/03/tivissa.jpg
END:VEVENT
BEGIN:VEVENT
DTSTART;VALUE=DATE:20260425
DTEND;VALUE=DATE:20260426
DTSTAMP:20260420T004205
CREATED:20260314T085018Z
LAST-MODIFIED:20260314T085018Z
UID:22197-1777075200-1777161599@cebg.cat
SUMMARY:Sortida a Penyagalera i Punta del Carrascal
DESCRIPTION:En aquests moments no tenim la informació de la sortida.
URL:https://cebg.cat/event/sortida-a-penyagalera-i-punta-del-carrascal/
LOCATION:Plaça Europa\, Plaça Europa\, Les Borges Blanques\, Lleida\, 25400
CATEGORIES:Excursions i Sortides
ATTACH;FMTTYPE=image/jpeg:https://cebg.cat/wp-content/uploads/2026/03/20190120_GRUP-DE-JOVES-AEM-PENYAGALERA-I-RIU-ULLDEMO-ELS-PORTS-DE-BESEIT.jpg
END:VEVENT
BEGIN:VEVENT
DTSTART;TZID=Europe/Madrid:20260425T093000
DTEND;TZID=Europe/Madrid:20260425T140000
DTSTAMP:20260420T004205
CREATED:20260408T175457Z
LAST-MODIFIED:20260408T175457Z
UID:22339-1777109400-1777125600@cebg.cat
SUMMARY:Els Manelets-Sortida Racó del Llop i la Comandilla de les Borges
DESCRIPTION:En aquests moments no tenim la informació de la sortida.
URL:https://cebg.cat/event/els-manelets-sortida-raco-del-llop-i-la-comandilla-de-les-borges/
LOCATION:Consell Comarcal de les Garrigues\, Avinguda de Francesc Macià\, 54\, Les Borges Blanques\, Lleida\, 25400
CATEGORIES:Manelets
ATTACH;FMTTYPE=image/jpeg:https://cebg.cat/wp-content/uploads/2026/04/20250412_183939-Mediana.jpg
END:VEVENT
BEGIN:VEVENT
DTSTART;TZID=Europe/Madrid:20260426T080000
DTEND;TZID=Europe/Madrid:20260426T170000
DTSTAMP:20260420T004205
CREATED:20260408T175956Z
LAST-MODIFIED:20260408T175956Z
UID:22341-1777190400-1777222800@cebg.cat
SUMMARY:Dia d'Escalada
DESCRIPTION:En aquests moments no tenim la informació de la sortida.
URL:https://cebg.cat/event/dia-descalada/
LOCATION:Plaça Europa\, Plaça Europa\, Les Borges Blanques\, Lleida\, 25400
CATEGORIES:Activitats del CEBG
ATTACH;FMTTYPE=image/jpeg:https://cebg.cat/wp-content/uploads/2025/03/IMG-20250301-WA0033.jpg
END:VEVENT
BEGIN:VEVENT
DTSTART;TZID=Europe/Madrid:20260502T093000
DTEND;TZID=Europe/Madrid:20260502T140000
DTSTAMP:20260420T004205
CREATED:20260408T180539Z
LAST-MODIFIED:20260409T100414Z
UID:22343-1777714200-1777730400@cebg.cat
SUMMARY:Els Manelets-Sortida a la Serra de la Llena
DESCRIPTION:En aquests moments no tenim la informació de la sortida.
URL:https://cebg.cat/event/sortida-a-la-serra-de-la-llena/
LOCATION:Consell Comarcal de les Garrigues\, Avinguda de Francesc Macià\, 54\, Les Borges Blanques\, Lleida\, 25400
CATEGORIES:Manelets
ATTACH;FMTTYPE=image/jpeg:https://cebg.cat/wp-content/uploads/2025/01/20250125_191950.jpg
END:VEVENT
END:VCALENDAR