BEGIN:VCALENDAR
VERSION:2.0
PRODID:-//CENTRE EXCURSIONISTA LES BORGES-GARRIGUES - ECPv6.15.20//NONSGML v1.0//EN
CALSCALE:GREGORIAN
METHOD:PUBLISH
X-ORIGINAL-URL:https://cebg.cat
X-WR-CALDESC:Esdeveniments per CENTRE EXCURSIONISTA LES BORGES-GARRIGUES
REFRESH-INTERVAL;VALUE=DURATION:PT1H
X-Robots-Tag:noindex
X-PUBLISHED-TTL:PT1H
BEGIN:VTIMEZONE
TZID:Europe/Madrid
BEGIN:DAYLIGHT
TZOFFSETFROM:+0100
TZOFFSETTO:+0200
TZNAME:CEST
DTSTART:20240331T010000
END:DAYLIGHT
BEGIN:STANDARD
TZOFFSETFROM:+0200
TZOFFSETTO:+0100
TZNAME:CET
DTSTART:20241027T010000
END:STANDARD
BEGIN:DAYLIGHT
TZOFFSETFROM:+0100
TZOFFSETTO:+0200
TZNAME:CEST
DTSTART:20250330T010000
END:DAYLIGHT
BEGIN:STANDARD
TZOFFSETFROM:+0200
TZOFFSETTO:+0100
TZNAME:CET
DTSTART:20251026T010000
END:STANDARD
BEGIN:DAYLIGHT
TZOFFSETFROM:+0100
TZOFFSETTO:+0200
TZNAME:CEST
DTSTART:20260329T010000
END:DAYLIGHT
BEGIN:STANDARD
TZOFFSETFROM:+0200
TZOFFSETTO:+0100
TZNAME:CET
DTSTART:20261025T010000
END:STANDARD
END:VTIMEZONE
BEGIN:VEVENT
DTSTART;TZID=Europe/Madrid:20250405T070000
DTEND;TZID=Europe/Madrid:20250405T150000
DTSTAMP:20260419T232052
CREATED:20250309T191947Z
LAST-MODIFIED:20250330T205255Z
UID:20418-1743836400-1743865200@cebg.cat
SUMMARY:Sortida a Farena\, els Cogullons i Mola dels 4 Termes
DESCRIPTION:Sortida a Farena-els Cogullons-Mola dels 4 Termes-Farena \nSortida circular des de Farena\, on el recorregut transcorrerà cap a la Baltra\, el pou de gel espectacular dels Cogullons\, els cogullons\, masos del Xuclet\, Roquerol i Mateu\, la mola dels 4 termes\, la cova fumada\, fonts… \nSortida per conèixer el patrimoni social i cultural de les muntanyes de Prades. \nPortar aigua\, esmorzar i dinar\, sòlids i líquids. Muda de mitjons\, ja que un petit tram del recorregut\, en el barranc del Tous (si no plou aquesta setmana)\, s’ha de passar per aigua. \nSortida a les 7 del matí des de la plaça Europa (es demana puntualitat). \nDistància: 17 km \nDesnivell: 800 m. \nPer participar en la sortida\, s’ha de ser soci del centre i estar federat. En cas contrari\, es pagarà l’assegurança d’un dia que és de 5 €.
URL:https://cebg.cat/event/sortida-a-farena-els-cogullons-i-mola-dels-4-termes/
LOCATION:Plaça Europa\, Plaça Europa\, Les Borges Blanques\, Lleida\, 25400
CATEGORIES:Excursions i Sortides
ATTACH;FMTTYPE=image/jpeg:https://cebg.cat/wp-content/uploads/2025/03/20220327_124404-2.jpg
END:VEVENT
BEGIN:VEVENT
DTSTART;VALUE=DATE:20250329
DTEND;VALUE=DATE:20250330
DTSTAMP:20260419T232052
CREATED:20250325T125652Z
LAST-MODIFIED:20250325T192046Z
UID:20502-1743206400-1743292799@cebg.cat
SUMMARY:Sortida a la Peña Montañesa i la Tuca
DESCRIPTION:Aquest dissabte 29 de març tindrà lloc l’excursió programada en el calendari de sortides del Centre Excursionista. \nEs farà la Peña Montañesa i la Tuca\, serà una sortida de 12/13 km i 1200 m de desnivell positiu. \nSe sortirà de la plaça Europa a les 6 del matí (trobada a 5.50 hores per distribuir els cotxes). Es pararà a Ainsa a esmorzar i d’allí s’anirà al punt de sortida\, Monasterio de San Victorian. \nPer venir s’ha de ser soci i estar federat amb l’assegurança C. Qui no ho estigui haurà de pagar l’assegurança de dia de 5 €. \nSerà una excursió de tot el dia. \nNivell tècnic: De 2 entre 5. \nNivell físic: 3 entre 5. \nS’Haurà de portar obligatòriament gramponets/grampons\, pals i qui pugui piolet. \nLíquid i menjar per tot el dia. \nSortida no apta per gossos. \nS’estarà molt pendent de la meteorologia\, en cas que no es pugui fer dissabte\, es passaria diumenge. \nPortar roba adequada. \nPer qualsevol dubte\, per privat. \nSalut i cames!!!
URL:https://cebg.cat/event/sortida-a-la-pena-montanesa-i-la-tuca/
LOCATION:Plaça Europa\, Plaça Europa\, Les Borges Blanques\, Lleida\, 25400
CATEGORIES:Excursions i Sortides
ATTACH;FMTTYPE=image/jpeg:https://cebg.cat/wp-content/uploads/2025/03/Pena-montanesa-dic-2018-1024x575-1.jpg
END:VEVENT
BEGIN:VEVENT
DTSTART;TZID=Europe/Madrid:20250323T093000
DTEND;TZID=Europe/Madrid:20250323T140000
DTSTAMP:20260419T232052
CREATED:20250309T190040Z
LAST-MODIFIED:20250319T185415Z
UID:20413-1742722200-1742738400@cebg.cat
SUMMARY:Sortida al Mas de Melons i Matxerri
DESCRIPTION:  \nBones Manelets! \nAquest diumenge hi ha sortida.\nAnirem a MAS DE MELONS\, entre Castelldans i Aspa\, reserva natural amb fauna excepcional \nEsclat de primavera al secà i temps de veure la ganga. \nVisita al centre d’interpretació del mas \nNivell fàcil. \nDistància: 8\,7 km. \nSortida: 9.30 des dels pisos de la Creueta.  \nTornada a les 13.15 \n 
URL:https://cebg.cat/event/sortida-al-mas-de-melons-i-matxerri/
LOCATION:Blocs Creueta\, Av. de les Garrigues\, 22\, Les Borges Blanques\, Lleida\, 25400\, Spain
CATEGORIES:Excursions i Sortides,Manelets
ATTACH;FMTTYPE=image/jpeg:https://cebg.cat/wp-content/uploads/2025/03/IMG-20231125-WA0045.jpg
END:VEVENT
BEGIN:VEVENT
DTSTART;VALUE=DATE:20250322
DTEND;VALUE=DATE:20250323
DTSTAMP:20260419T232052
CREATED:20250307T180952Z
LAST-MODIFIED:20250317T213509Z
UID:20366-1742601600-1742687999@cebg.cat
SUMMARY:La Fageda d'en Jordà i Volcans
DESCRIPTION:Dissabte 22 de març sortida oficial al Parc Natural de la zona volcànica de la Garrotxa \nDescripció del recorregut: \nSe sortirà de l’aparcament de la zona de la Fageda d’en Jordà. Des d’allí s’inicia una ruta circular on podrà gaudir d’un paisatge excepcional i diversos llocs d’interès com: la cooperativa de la Fageda\, Sant Miquel Sacot\, el cràter de Santa Margarida\, l’ermita de Santa Maria de Sacot\, el volcà del Croscat i les graveres del Croscat. \n️ Informació sortida: \n-Hora: A les 6.30 h a plaça Europa (es demana puntualitat). \n-S’esmorzarà i es dinarà pel recorregut. \n-La sortida ens implicarà pràcticament tot el dia. \n️ Dades del recorregut: \n-Ruta circular d’uns 15-16 km \n– Desnivell de 700 + i 700-. \n-Dificultat moderada. \n(LES DADES I VALORACIONS DEL RECORREGUT SÓN ORIENTATIVES DEPENEN DE L’ESTAT FÍSIC I EXPERIÈNCIA DE CADA PERSONA.) \n️ Requisits per inscriure’s a la sortida: \n-Estar federat i ser soci del CEBG. En cas contrari\, es pagarà l’assegurança d’un dia de 5 €. \n-Últim dia inscripció dijous 20  de març. \n️ Altres dades: \n-Portar menjar calòric\, esmorzar\, dinar i aigua. \n-Es recomana portar botes de mitja canya\, ja que hi ha zones enfangades. \n-L’aparcament de la zona de la Fageda no és gratuït i s’ha de pagar a la sortida. Val 2 euros l’hora més o menys.
URL:https://cebg.cat/event/la-fageda-den-jorda-i-volcans/
LOCATION:Plaça Europa\, Plaça Europa\, Les Borges Blanques\, Lleida\, 25400
CATEGORIES:Excursions i Sortides
ATTACH;FMTTYPE=image/jpeg:https://cebg.cat/wp-content/uploads/2025/03/slide-home-003.jpg
END:VEVENT
BEGIN:VEVENT
DTSTART;TZID=Europe/Madrid:20250316T080000
DTEND;TZID=Europe/Madrid:20250316T170000
DTSTAMP:20260419T232052
CREATED:20250307T125220Z
LAST-MODIFIED:20250311T181715Z
UID:20362-1742112000-1742144400@cebg.cat
SUMMARY:Iniciació en Bloc
DESCRIPTION:
URL:https://cebg.cat/event/iniciacio-en-bloc/
LOCATION:Plaça Europa\, Plaça Europa\, Les Borges Blanques\, Lleida\, 25400
CATEGORIES:Activitats del CEBG
ATTACH;FMTTYPE=image/jpeg:https://cebg.cat/wp-content/uploads/2025/03/Campionat-de-Catalunya_opt-1.jpg
END:VEVENT
BEGIN:VEVENT
DTSTART;TZID=Europe/Madrid:20250309T080000
DTEND;TZID=Europe/Madrid:20250309T170000
DTSTAMP:20260419T232052
CREATED:20250301T204102Z
LAST-MODIFIED:20250311T181858Z
UID:20325-1741507200-1741539600@cebg.cat
SUMMARY:Sortida a Ulldemolins
DESCRIPTION:Sortida diumenge 09 de març\, a Ulldemolins \nSortirem a les 06:30 de la plaça Europa. \nPer venir s’ha de ser soci del Centre i està federat\, sinó s’haurà de contractar l’assegurança de dia 5€ \nLa sortida durarà tot el dia \nNivell físic 3 de 5 (es una ruta llarga i amb desnivells constants) \nNivell tècnic 2 de 5 \nPortar aigua (s’aconsella mínim 1\,5 l) es trobarà algún lloc per poder omplir\, però sense garanties sanitàries\, menja per tot el dia (esmorzar\, dinar i algo més per picar). \n 
URL:https://cebg.cat/event/sortida-a-ulldemolins/
LOCATION:Plaça Europa\, Plaça Europa\, Les Borges Blanques\, Lleida\, 25400
ATTACH;FMTTYPE=image/jpeg:https://cebg.cat/wp-content/uploads/2025/03/T29_RLM4854BX.jpg
END:VEVENT
BEGIN:VEVENT
DTSTART;TZID=Europe/Madrid:20250308T080000
DTEND;TZID=Europe/Madrid:20250308T140000
DTSTAMP:20260419T232052
CREATED:20250110T194455Z
LAST-MODIFIED:20250306T194736Z
UID:19874-1741420800-1741442400@cebg.cat
SUMMARY:Sortida d'Orientació
DESCRIPTION:Sortida orientació les borges\, col.laboració amb Esplai Apassomi\nSortida dissabte dissabte 08/03 Pi del Manelet a les 09.30H.\nLa ruta durara entre 2-2.30h\nLa activitat es realitza si les previsions del temps són les correctes.\nRecorregut sencer 20 balises 9.2km Desnivell 20m\nExplicarem com es realitza una ruta d´orientació i us explicarem com interpretar un mapa.\nEls que tingueu dubtes per privat.
URL:https://cebg.cat/event/sortida-dorientacio/
LOCATION:Plaça Europa\, Plaça Europa\, Les Borges Blanques\, Lleida\, 25400
CATEGORIES:Activitats del CEBG,Esplai
ATTACH;FMTTYPE=image/jpeg:https://cebg.cat/wp-content/uploads/2025/01/20240907_103744.jpg
END:VEVENT
BEGIN:VEVENT
DTSTART;TZID=Europe/Madrid:20250302T090000
DTEND;TZID=Europe/Madrid:20250302T150000
DTSTAMP:20260419T232052
CREATED:20250110T190807Z
LAST-MODIFIED:20250210T212347Z
UID:19867-1740906000-1740927600@cebg.cat
SUMMARY:Dia de l'Arbre
DESCRIPTION:La informació de la sortida no està disponible en aquests moments. Un cop la tinguem\, ho actualitzarem.
URL:https://cebg.cat/event/dia-de-larbre-2/
LOCATION:Plaça Europa\, Plaça Europa\, Les Borges Blanques\, Lleida\, 25400
CATEGORIES:Activitats del CEBG,Manelets
END:VEVENT
BEGIN:VEVENT
DTSTART;VALUE=DATE:20250301
DTEND;VALUE=DATE:20250302
DTSTAMP:20260419T232052
CREATED:20250110T191914Z
LAST-MODIFIED:20250110T192534Z
UID:19870-1740787200-1740873599@cebg.cat
SUMMARY:Iniciació d'Escalada Esportiva
DESCRIPTION:La informació de l’activitat no està disponible en aquests moments. Un cop la tinguem\, ho actualitzarem.
URL:https://cebg.cat/event/iniciacio-descalada-esportiva/
LOCATION:Plaça Europa\, Plaça Europa\, Les Borges Blanques\, Lleida\, 25400
CATEGORIES:Activitats del CEBG
ATTACH;FMTTYPE=image/jpeg:https://cebg.cat/wp-content/uploads/2024/10/20241026_124838.jpg
END:VEVENT
END:VCALENDAR