BEGIN:VCALENDAR
VERSION:2.0
PRODID:-//CENTRE EXCURSIONISTA LES BORGES-GARRIGUES - ECPv6.15.20//NONSGML v1.0//EN
CALSCALE:GREGORIAN
METHOD:PUBLISH
X-WR-CALNAME:CENTRE EXCURSIONISTA LES BORGES-GARRIGUES
X-ORIGINAL-URL:https://cebg.cat
X-WR-CALDESC:Esdeveniments per CENTRE EXCURSIONISTA LES BORGES-GARRIGUES
REFRESH-INTERVAL;VALUE=DURATION:PT1H
X-Robots-Tag:noindex
X-PUBLISHED-TTL:PT1H
BEGIN:VTIMEZONE
TZID:Europe/Madrid
BEGIN:DAYLIGHT
TZOFFSETFROM:+0100
TZOFFSETTO:+0200
TZNAME:CEST
DTSTART:20240331T010000
END:DAYLIGHT
BEGIN:STANDARD
TZOFFSETFROM:+0200
TZOFFSETTO:+0100
TZNAME:CET
DTSTART:20241027T010000
END:STANDARD
BEGIN:DAYLIGHT
TZOFFSETFROM:+0100
TZOFFSETTO:+0200
TZNAME:CEST
DTSTART:20250330T010000
END:DAYLIGHT
BEGIN:STANDARD
TZOFFSETFROM:+0200
TZOFFSETTO:+0100
TZNAME:CET
DTSTART:20251026T010000
END:STANDARD
BEGIN:DAYLIGHT
TZOFFSETFROM:+0100
TZOFFSETTO:+0200
TZNAME:CEST
DTSTART:20260329T010000
END:DAYLIGHT
BEGIN:STANDARD
TZOFFSETFROM:+0200
TZOFFSETTO:+0100
TZNAME:CET
DTSTART:20261025T010000
END:STANDARD
END:VTIMEZONE
BEGIN:VEVENT
DTSTART;VALUE=DATE:20250601
DTEND;VALUE=DATE:20250602
DTSTAMP:20260421T233536
CREATED:20250417T183215Z
LAST-MODIFIED:20250526T210331Z
UID:20721-1748736000-1748822399@cebg.cat
SUMMARY:Sortida a la Serra de Cardó
DESCRIPTION:  \nSortida des de l’antic balneari de Cardó (antic convent trinitari de Cardó)\, diumenge 1 de juny. \nVeurem la Teixeda de Cosp\, considerat el bosc de teixos més antic de Catalunya. La Roca Foradada de Cardó (espectacular). La ruta de les ermites (conjunt de 12 ermites al voltant de l’antic santuari). Ascensió a la Creu de Santos (942 m) cim de la Serra de Cardó i la Ribera d’Ebre. Construccions de pedra seca molt singulars. \nSortida de la plaça Europa a les 6.30 h \nDistància: 16\,200 km. \nDesnivell: 1.230 m. \nDificultat física: Mitja. \nDificultat tècnica: Baixa. \nPortar tres lts d’aigua\, protecció solar i gorra\, s’aconsella pals i menjar per tot el dia. \nPer participar en la sortida s’ha de ser soci i estar federat. En cas contrari s’haurà de pagar la segurança d’un dia\, de 5 €. \n 
URL:https://cebg.cat/event/sortida-a-la-serra-de-cardo/
LOCATION:Plaça Europa\, Plaça Europa\, Les Borges Blanques\, Lleida\, 25400
CATEGORIES:Excursions i Sortides
ATTACH;FMTTYPE=image/jpeg:https://cebg.cat/wp-content/uploads/2025/04/Serra_de_Cardo_20171209_125059-1.jpg
END:VEVENT
BEGIN:VEVENT
DTSTART;VALUE=DATE:20250607
DTEND;VALUE=DATE:20250608
DTSTAMP:20260421T233536
CREATED:20250421T163647Z
LAST-MODIFIED:20250421T163647Z
UID:20871-1749254400-1749340799@cebg.cat
SUMMARY:Sortida al Balandrau
DESCRIPTION:Quan es tingui la informació\, s’actualitzarà.
URL:https://cebg.cat/event/sortida-al-balandrau/
LOCATION:Plaça Europa\, Plaça Europa\, Les Borges Blanques\, Lleida\, 25400
CATEGORIES:Excursions i Sortides
ATTACH;FMTTYPE=image/jpeg:https://cebg.cat/wp-content/uploads/2025/04/67121-017.jpg
END:VEVENT
BEGIN:VEVENT
DTSTART;VALUE=DATE:20250608
DTEND;VALUE=DATE:20250609
DTSTAMP:20260421T233536
CREATED:20250421T163956Z
LAST-MODIFIED:20250421T163956Z
UID:20873-1749340800-1749427199@cebg.cat
SUMMARY:En Bici per la Via Verda de la Terra Alta
DESCRIPTION:Quan es tingui la informació\, s’actualitzarà.
URL:https://cebg.cat/event/en-bici-per-la-via-verda-de-la-terra-alta/
LOCATION:Plaça Europa\, Plaça Europa\, Les Borges Blanques\, Lleida\, 25400
CATEGORIES:Excursions i Sortides,Manelets
ATTACH;FMTTYPE=image/jpeg:https://cebg.cat/wp-content/uploads/2025/04/via-verda.jpg
END:VEVENT
BEGIN:VEVENT
DTSTART;VALUE=DATE:20250614
DTEND;VALUE=DATE:20250615
DTSTAMP:20260421T233536
CREATED:20250421T164429Z
LAST-MODIFIED:20250609T163041Z
UID:20875-1749859200-1749945599@cebg.cat
SUMMARY:P.N.Ordesa ("Senda de los Cazadores" i "Cola de Caballo")
DESCRIPTION:
URL:https://cebg.cat/event/p-n-ordesa-senda-de-los-cazadores-i-cola-de-caballo/
LOCATION:Plaça Europa\, Plaça Europa\, Les Borges Blanques\, Lleida\, 25400
CATEGORIES:Excursions i Sortides
ATTACH;FMTTYPE=image/jpeg:https://cebg.cat/wp-content/uploads/2025/04/Ordesa.jpg
END:VEVENT
BEGIN:VEVENT
DTSTART;VALUE=DATE:20250628
DTEND;VALUE=DATE:20250629
DTSTAMP:20260421T233536
CREATED:20250421T165126Z
LAST-MODIFIED:20250624T195006Z
UID:20877-1751068800-1751155199@cebg.cat
SUMMARY:Sortida pel Camí Vell de Queralbs a Núria
DESCRIPTION:
URL:https://cebg.cat/event/sortida-pel-cami-vell-de-queralbs-a-nuria/
LOCATION:Plaça Europa\, Plaça Europa\, Les Borges Blanques\, Lleida\, 25400
CATEGORIES:Excursions i Sortides
ATTACH;FMTTYPE=image/jpeg:https://cebg.cat/wp-content/uploads/2025/04/142_foto_m.jpg
END:VEVENT
END:VCALENDAR