BEGIN:VCALENDAR
VERSION:2.0
PRODID:-//CENTRE EXCURSIONISTA LES BORGES-GARRIGUES - ECPv6.15.20//NONSGML v1.0//EN
CALSCALE:GREGORIAN
METHOD:PUBLISH
X-WR-CALNAME:CENTRE EXCURSIONISTA LES BORGES-GARRIGUES
X-ORIGINAL-URL:https://cebg.cat
X-WR-CALDESC:Esdeveniments per CENTRE EXCURSIONISTA LES BORGES-GARRIGUES
REFRESH-INTERVAL;VALUE=DURATION:PT1H
X-Robots-Tag:noindex
X-PUBLISHED-TTL:PT1H
BEGIN:VTIMEZONE
TZID:Europe/Madrid
BEGIN:DAYLIGHT
TZOFFSETFROM:+0100
TZOFFSETTO:+0200
TZNAME:CEST
DTSTART:20240331T010000
END:DAYLIGHT
BEGIN:STANDARD
TZOFFSETFROM:+0200
TZOFFSETTO:+0100
TZNAME:CET
DTSTART:20241027T010000
END:STANDARD
BEGIN:DAYLIGHT
TZOFFSETFROM:+0100
TZOFFSETTO:+0200
TZNAME:CEST
DTSTART:20250330T010000
END:DAYLIGHT
BEGIN:STANDARD
TZOFFSETFROM:+0200
TZOFFSETTO:+0100
TZNAME:CET
DTSTART:20251026T010000
END:STANDARD
BEGIN:DAYLIGHT
TZOFFSETFROM:+0100
TZOFFSETTO:+0200
TZNAME:CEST
DTSTART:20260329T010000
END:DAYLIGHT
BEGIN:STANDARD
TZOFFSETFROM:+0200
TZOFFSETTO:+0100
TZNAME:CET
DTSTART:20261025T010000
END:STANDARD
END:VTIMEZONE
BEGIN:VEVENT
DTSTART;VALUE=DATE:20250705
DTEND;VALUE=DATE:20250706
DTSTAMP:20260421T220545
CREATED:20250613T184112Z
LAST-MODIFIED:20250630T172016Z
UID:21103-1751673600-1751759999@cebg.cat
SUMMARY:Nou Barranc d'Iniciació del CEBG
DESCRIPTION:Aquest dissabte farem un barranc d’iniciació\, el de Gurb situat al poble de Gurb aprop de Tremp.\nL’objectiu d’aquesta activitat és donar-vos a conèixer aquesta disciplina dins els esports de muntanya.\nSerà una activitat que durarà tot el dia depenent del grup.\nEl material necessari si no en disposeu el podeu llogar al centre.\nPer fer l’activitat s’ha de ser soci del Centre Excursionista i estar federat/da amb l’assegurança C sinó es pagarà l’assegurança del dia de 5 €.\nPortar roba i calçat per canvias per després del barranc. Per fer-ho portar un bon calçat i gorra per fer l’aproximacio. Portar aigua mínim 1’5 litre i menjar. Material necessari\, neoprè complert\, arnès\, baga d’ancoratge\, rapalador\, casc\, guants i motxilla de barranquisme qui pugui sinó alguna de vella. El mateix calçat que porteu per caminar serà per fer el descens del barranc .\nEns trobem a la plaça Europa a les 6\,15 per sortir a les 6\,30 hores.\nPararem a esmorzar a Tremp\, el dinar serà durant el barranc i després anirem a fer el beuré de rigor.\nQualsevol dubte m’ho dieu per privat.\nSalut i cames
URL:https://cebg.cat/event/nou-barranc-diniciacio-del-cebg/
LOCATION:Plaça Europa\, Plaça Europa\, Les Borges Blanques\, Lleida\, 25400
CATEGORIES:Activitats del CEBG
ATTACH;FMTTYPE=image/jpeg:https://cebg.cat/wp-content/uploads/2025/06/IMG-20240302-WA0021.jpg
END:VEVENT
BEGIN:VEVENT
DTSTART;VALUE=DATE:20250719
DTEND;VALUE=DATE:20250720
DTSTAMP:20260421T220545
CREATED:20250613T184527Z
LAST-MODIFIED:20250714T174909Z
UID:21108-1752883200-1752969599@cebg.cat
SUMMARY:Sortida al Pic de Peguera
DESCRIPTION:
URL:https://cebg.cat/event/sortida-al-pic-de-peguera/
LOCATION:Plaça Europa\, Plaça Europa\, Les Borges Blanques\, Lleida\, 25400
CATEGORIES:Excursions i Sortides
ATTACH;FMTTYPE=image/jpeg:https://cebg.cat/wp-content/uploads/2025/06/73364752Master.jpg
END:VEVENT
BEGIN:VEVENT
DTSTART;VALUE=DATE:20250726
DTEND;VALUE=DATE:20250727
DTSTAMP:20260421T220545
CREATED:20250613T185713Z
LAST-MODIFIED:20250721T203928Z
UID:21110-1753488000-1753574399@cebg.cat
SUMMARY:Pujada al Pic de Cotiella
DESCRIPTION:Sortida del dissabte 26 de juliol al pic de Cotiella. \nPer venir s’ha de ser soci i està federat\, en cas contrari s’haurà de pagar l’assegurança de dia de 5 €. \nSerà una excursió de tot el dia\, durarà sobre unes 10 hores més el viatge d’anar i tornar per tant sortirem molt de matí\, a les 5 del matí de la plaça Europa\, també donem l’opció de marxar divendres per la tarda a les 17 hores de la gasolinera de Torrefarrera amb el Juanele 626 64 34 56. \nDescripció de la sortida. \nÉs una ascensió molt llarga\, físicament la podem valorar de 5 entre 5 i tècnicament 4 de 5. Material obligatori casc\, pals\, botes i em material habitual en una sortida d’alta muntanya. Menjar i líquid per tot el dia\, sobretot amb l’aigua haurem de vigilar ja que durant gran part de la sortida no en trobàrem. Mínim 2 litres. \nUs passo fitxa de l’excursió i el track que és parcial\, no és de tot el recorregut. Penseu que és un repte amb 1500 metres de desnivell positiu i una petita grimpada així que anirem amb calma i sense presses. No és difícil és llarga. \nTambé fem uns km per pista forestal fins al punt de sortida\, és recomana cotxe alt si algú l’ha de portar.
URL:https://cebg.cat/event/pujada-al-pic-de-cotiella/
LOCATION:Plaça Europa\, Plaça Europa\, Les Borges Blanques\, Lleida\, 25400
CATEGORIES:Excursions i Sortides
ATTACH;FMTTYPE=image/jpeg:https://cebg.cat/wp-content/uploads/2025/06/cotiella-massif-altitude-helibike-routes-1-1024x683-1.jpg
END:VEVENT
END:VCALENDAR