BEGIN:VCALENDAR
VERSION:2.0
PRODID:-//CENTRE EXCURSIONISTA LES BORGES-GARRIGUES - ECPv6.15.20//NONSGML v1.0//EN
CALSCALE:GREGORIAN
METHOD:PUBLISH
X-WR-CALNAME:CENTRE EXCURSIONISTA LES BORGES-GARRIGUES
X-ORIGINAL-URL:https://cebg.cat
X-WR-CALDESC:Esdeveniments per CENTRE EXCURSIONISTA LES BORGES-GARRIGUES
REFRESH-INTERVAL;VALUE=DURATION:PT1H
X-Robots-Tag:noindex
X-PUBLISHED-TTL:PT1H
BEGIN:VTIMEZONE
TZID:Europe/Madrid
BEGIN:DAYLIGHT
TZOFFSETFROM:+0100
TZOFFSETTO:+0200
TZNAME:CEST
DTSTART:20240331T010000
END:DAYLIGHT
BEGIN:STANDARD
TZOFFSETFROM:+0200
TZOFFSETTO:+0100
TZNAME:CET
DTSTART:20241027T010000
END:STANDARD
BEGIN:DAYLIGHT
TZOFFSETFROM:+0100
TZOFFSETTO:+0200
TZNAME:CEST
DTSTART:20250330T010000
END:DAYLIGHT
BEGIN:STANDARD
TZOFFSETFROM:+0200
TZOFFSETTO:+0100
TZNAME:CET
DTSTART:20251026T010000
END:STANDARD
BEGIN:DAYLIGHT
TZOFFSETFROM:+0100
TZOFFSETTO:+0200
TZNAME:CEST
DTSTART:20260329T010000
END:DAYLIGHT
BEGIN:STANDARD
TZOFFSETFROM:+0200
TZOFFSETTO:+0100
TZNAME:CET
DTSTART:20261025T010000
END:STANDARD
END:VTIMEZONE
BEGIN:VEVENT
DTSTART;TZID=Europe/Madrid:20251005T080000
DTEND;TZID=Europe/Madrid:20251005T143000
DTSTAMP:20260421T174826
CREATED:20250912T181538Z
LAST-MODIFIED:20251001T183958Z
UID:21400-1759651200-1759674600@cebg.cat
SUMMARY:41a Marxa de les Garrigues\, Memorial Manel Giné
DESCRIPTION:41 Marxa excursionista de les Garrigues. Diumenge 5 d’octubre. \nPaisatge arqueològic. Un tomb pel passat prehistòric de la nostra comarca. \nVeurem diversos jaciments d’èpoques diferents i mirarem d’entendre el paisatge i els camins en cada moment. Des de l’estat de Bronze fins al món romà. \nPuig Pelat – Roques Guàrdies – Bassa de la Torre – Sant Salvador \nRecorregut 12 km.\nCaminada popular i esmorzar.\nDiumenge 5 d’octubre.\n9 h del matí.\nPunt de Sortida: \nPolígon industrial\, davant parc de Bombers. \nInscripcions: Llibreria quaderns i ajuntament de les Borges Blanques.\nPreu 5€ / 4€ socis del Centre. \nFederats gratuït.
URL:https://cebg.cat/event/41a-marxa-de-les-garrigues-memorial-manel-gine/
LOCATION:Placeta del Terrall\, Les Borges Blanques\, Espanya
CATEGORIES:Excursions i Sortides
ATTACH;FMTTYPE=image/jpeg:https://cebg.cat/wp-content/uploads/2025/04/20250421_191825.jpg
END:VEVENT
BEGIN:VEVENT
DTSTART;TZID=Europe/Madrid:20251011T080000
DTEND;TZID=Europe/Madrid:20251011T170000
DTSTAMP:20260421T174826
CREATED:20250925T200553Z
LAST-MODIFIED:20250925T200553Z
UID:21451-1760169600-1760202000@cebg.cat
SUMMARY:Sortida a Prades (Muntanyes de Prades)
DESCRIPTION:Sortida a Prades dissabte 11 d’octubre. \nRuta circular on es podrà conèixer part del patrimoni social de Prades capital. \nEs visitarà la Cova dels Capellans\, la foradada\, el llac de Prades. \nLes ermites de St. Antoni\, St. Roc i l’ermita de l’Abellera. \nEl Mas del Celestino\, Teodoro i d’en Pagès. \nLa Roca del Gringol\, les fonts d’en Pagès\, de la mina d’Obis\, Tossal de la Baltasana i la Cova d’en Pere. \nSortida bastant completa d’uns 16 km i de 550 m de desnivell. \nLloc de sortida: Plaça Europa. \nHora de sortida: 7 del matí. \nCal portar aigua\, líquids i sòlids. Esmorzar i en un principi dinar a casa. \nPer participar en la sortida\, s’ha de ser soci del CEBG i estar federat. En cas contrari\, s’ha de pagar l’assegurança d’un dia de 5 €.
URL:https://cebg.cat/event/sortida-a-prades-muntanyes-de-prades/
LOCATION:Plaça Europa\, Plaça Europa\, Les Borges Blanques\, Lleida\, 25400
ATTACH;FMTTYPE=image/jpeg:https://cebg.cat/wp-content/uploads/2025/09/1000028328.jpg
END:VEVENT
BEGIN:VEVENT
DTSTART;TZID=Europe/Madrid:20251026T080000
DTEND;TZID=Europe/Madrid:20251026T140000
DTSTAMP:20260421T174826
CREATED:20250924T181007Z
LAST-MODIFIED:20251001T184224Z
UID:21437-1761465600-1761487200@cebg.cat
SUMMARY:Caminada contra el Càncer
DESCRIPTION:
URL:https://cebg.cat/event/caminada-contra-el-cancer-2/
LOCATION:Placeta del Terrall\, Les Borges Blanques\, Espanya
CATEGORIES:Excursions i Sortides
ATTACH;FMTTYPE=image/jpeg:https://cebg.cat/wp-content/uploads/2024/12/20241226_115555.jpg
ORGANIZER;CN="Centre Excursionista Borges-Garrigues":MAILTO:cxborgesgarrigues@gmail.com
END:VEVENT
END:VCALENDAR