BEGIN:VCALENDAR
VERSION:2.0
PRODID:-//CENTRE EXCURSIONISTA LES BORGES-GARRIGUES - ECPv6.15.20//NONSGML v1.0//EN
CALSCALE:GREGORIAN
METHOD:PUBLISH
X-WR-CALNAME:CENTRE EXCURSIONISTA LES BORGES-GARRIGUES
X-ORIGINAL-URL:https://cebg.cat
X-WR-CALDESC:Esdeveniments per CENTRE EXCURSIONISTA LES BORGES-GARRIGUES
REFRESH-INTERVAL;VALUE=DURATION:PT1H
X-Robots-Tag:noindex
X-PUBLISHED-TTL:PT1H
BEGIN:VTIMEZONE
TZID:Europe/Madrid
BEGIN:DAYLIGHT
TZOFFSETFROM:+0100
TZOFFSETTO:+0200
TZNAME:CEST
DTSTART:20250330T010000
END:DAYLIGHT
BEGIN:STANDARD
TZOFFSETFROM:+0200
TZOFFSETTO:+0100
TZNAME:CET
DTSTART:20251026T010000
END:STANDARD
BEGIN:DAYLIGHT
TZOFFSETFROM:+0100
TZOFFSETTO:+0200
TZNAME:CEST
DTSTART:20260329T010000
END:DAYLIGHT
BEGIN:STANDARD
TZOFFSETFROM:+0200
TZOFFSETTO:+0100
TZNAME:CET
DTSTART:20261025T010000
END:STANDARD
BEGIN:DAYLIGHT
TZOFFSETFROM:+0100
TZOFFSETTO:+0200
TZNAME:CEST
DTSTART:20270328T010000
END:DAYLIGHT
BEGIN:STANDARD
TZOFFSETFROM:+0200
TZOFFSETTO:+0100
TZNAME:CET
DTSTART:20271031T010000
END:STANDARD
END:VTIMEZONE
BEGIN:VEVENT
DTSTART;VALUE=DATE:20260110
DTEND;VALUE=DATE:20260111
DTSTAMP:20260421T130918
CREATED:20260107T165421Z
LAST-MODIFIED:20260107T171907Z
UID:21902-1768003200-1768089599@cebg.cat
SUMMARY:Sortida al Pic d'Erata des de Espierre
DESCRIPTION:
URL:https://cebg.cat/event/sortida-al-pic-derata-des-de-espierre/
LOCATION:Plaça Europa\, Plaça Europa\, Les Borges Blanques\, Lleida\, 25400
CATEGORIES:Excursions i Sortides
ATTACH;FMTTYPE=image/jpeg:https://cebg.cat/wp-content/uploads/2026/01/HxdoLkiM8WEihPeYoMODWlL9.jpg
END:VEVENT
BEGIN:VEVENT
DTSTART;VALUE=DATE:20260124
DTEND;VALUE=DATE:20260125
DTSTAMP:20260421T130918
CREATED:20260107T171206Z
LAST-MODIFIED:20260122T221638Z
UID:21906-1769212800-1769299199@cebg.cat
SUMMARY:Sortida d'hivern al Pic de l'Orri
DESCRIPTION:Sortida d’hivern al Pic de l’Orri\, el dissabte 24 de gener. \nAquest dies amb les nevades intenses i copioses que ha fet el risc d’allaus és molt alt. A la zona que ens pensàvem que no seria tan fort resulta que està a 4 de 5. Després de parlar-ho amb el Lluís Tripiana s’ha descartat. Deixem el Balandrau per un altre dia. S’ha mirat i consultat i parlat amb els guardes de diferents refugis i l’únic lloc que ens dóna seguretat i que el risc d’allaus és mínim és a la zona del refugi de les Comes de Rubió. Per tant canviem de lloc\, anirem a Rubió i des d’allí farem pic de l’Orri passant pel refugi. \nDescripció de la sortida: farem un recorregut d’uns 10/12 km depenen d’on puguem aparcar a causa de la neu\, desnivell positiu uns 600 m. \nNivell físic: 2 entre 5. \nNivell tècnic: 2 entre 5. \nMaterial obligatori: Raquetes o grampons o gramponets\, pals\, polaines\, botes. Gorro\, buf\, guants\, ulleres i roba adequada per l’època que estem. \nPortar líquid i sòlid per passar el dia. \nSortirem de la plaça Europa a les 5:30 hores\,Per poder venir a la sortida s’ha de soci del Centre Excursionista Borges Garrigues i estar federat i assegurat amb la categoria C. En cas contrari s’haurà de fer l’assegurança de dia de 10 € i si no ets soci de 15 €.\nEstarem al cas de la meteorologia i s’anirà informant de la previsió.
URL:https://cebg.cat/event/sortida-al-montcorbison/
LOCATION:Plaça Europa\, Plaça Europa\, Les Borges Blanques\, Lleida\, 25400
CATEGORIES:Excursions i Sortides
ATTACH;FMTTYPE=image/webp:https://cebg.cat/wp-content/uploads/2026/01/IMG_20200202_115224-copia.webp
END:VEVENT
BEGIN:VEVENT
DTSTART;TZID=Europe/Madrid:20260125T093000
DTEND;TZID=Europe/Madrid:20260125T130000
DTSTAMP:20260421T130918
CREATED:20251104T053607Z
LAST-MODIFIED:20260119T174528Z
UID:21594-1769333400-1769346000@cebg.cat
SUMMARY:Sortida dels Manelets-Descoberta de les fonts de Vinaixa
DESCRIPTION:Ep Manelets! El diumenge 25 toca excursió. Anirem a conèixer les fonts de Vinaixa\, que veurem rajar de valent! \nDia i hora: diumenge 25\, 9.30 matí a 13.00. \nSortida: Consell Comarcal. \nDESCOBERTA DE LES FONTS DE VINAIXA. \nCal confirmar per privat a aquest mateix telèfon (màxim dijous nit). \nRuta: 8 km. Nivell fàcil.
URL:https://cebg.cat/event/sortida-dels-manelets-fonts-daigua-entre-fulleda-tarres-i-vinaixa/
LOCATION:Consell Comarcal de les Garrigues\, Avinguda de Francesc Macià\, 54\, Les Borges Blanques\, Lleida\, 25400
CATEGORIES:Excursions i Sortides,Manelets
ATTACH;FMTTYPE=image/jpeg:https://cebg.cat/wp-content/uploads/2024/10/20241019_174720.jpg
END:VEVENT
BEGIN:VEVENT
DTSTART;VALUE=DATE:20260131
DTEND;VALUE=DATE:20260201
DTSTAMP:20260421T130918
CREATED:20260107T171817Z
LAST-MODIFIED:20260107T171817Z
UID:21912-1769817600-1769903999@cebg.cat
SUMMARY:Sortida de Raquetes als Llacs d'Anayet
DESCRIPTION:En aquests moments no tenim la informació de la sortida.
URL:https://cebg.cat/event/sortida-de-raquetes-als-llacs-danayet/
LOCATION:Plaça Europa\, Plaça Europa\, Les Borges Blanques\, Lleida\, 25400
CATEGORIES:Excursions i Sortides
ATTACH;FMTTYPE=image/jpeg:https://cebg.cat/wp-content/uploads/2026/01/anayet-1260722-d99f.jpg
END:VEVENT
END:VCALENDAR